BEGIN:VCALENDAR
VERSION:2.0
PRODID:-//휴스턴 성 김대건 한인 성당 - Houston - ECPv6.15.20//NONSGML v1.0//EN
CALSCALE:GREGORIAN
METHOD:PUBLISH
X-WR-CALNAME:휴스턴 성 김대건 한인 성당 - Houston
X-ORIGINAL-URL:https://sakhouston.org
X-WR-CALDESC:휴스턴 성 김대건 한인 성당 - Houston 이벤트
REFRESH-INTERVAL;VALUE=DURATION:PT1H
X-Robots-Tag:noindex
X-PUBLISHED-TTL:PT1H
BEGIN:VTIMEZONE
TZID:America/Chicago
BEGIN:DAYLIGHT
TZOFFSETFROM:-0600
TZOFFSETTO:-0500
TZNAME:CDT
DTSTART:20240310T080000
END:DAYLIGHT
BEGIN:STANDARD
TZOFFSETFROM:-0500
TZOFFSETTO:-0600
TZNAME:CST
DTSTART:20241103T070000
END:STANDARD
BEGIN:DAYLIGHT
TZOFFSETFROM:-0600
TZOFFSETTO:-0500
TZNAME:CDT
DTSTART:20250309T080000
END:DAYLIGHT
BEGIN:STANDARD
TZOFFSETFROM:-0500
TZOFFSETTO:-0600
TZNAME:CST
DTSTART:20251102T070000
END:STANDARD
BEGIN:DAYLIGHT
TZOFFSETFROM:-0600
TZOFFSETTO:-0500
TZNAME:CDT
DTSTART:20260308T080000
END:DAYLIGHT
BEGIN:STANDARD
TZOFFSETFROM:-0500
TZOFFSETTO:-0600
TZNAME:CST
DTSTART:20261101T070000
END:STANDARD
END:VTIMEZONE
BEGIN:VEVENT
DTSTART;TZID=America/Chicago:20251016T190000
DTEND;TZID=America/Chicago:20251016T193000
DTSTAMP:20260419T084927
CREATED:20251011T021132Z
LAST-MODIFIED:20251011T021132Z
UID:4084-1760641200-1760643000@sakhouston.org
SUMMARY:이번주 평일미사 없음
DESCRIPTION:본당신부님 미주사목 전주교구 사제모임 참석  \n– 이번주 평일미사 없음
URL:https://sakhouston.org/event/%ec%9d%b4%eb%b2%88%ec%a3%bc-%ed%8f%89%ec%9d%bc%eb%af%b8%ec%82%ac-%ec%97%86%ec%9d%8c-3/
CATEGORIES:평일미사
END:VEVENT
BEGIN:VEVENT
DTSTART;VALUE=DATE:20251017
DTEND;VALUE=DATE:20251018
DTSTAMP:20260419T084927
CREATED:20250927T210448Z
LAST-MODIFIED:20250927T210448Z
UID:3887-1760659200-1760745599@sakhouston.org
SUMMARY:전례력: 안티오키아의 성 이냐시오 주교 순교자 기념일
DESCRIPTION:
URL:https://sakhouston.org/event/%ec%a0%84%eb%a1%80%eb%a0%a5-%ec%95%88%ed%8b%b0%ec%98%a4%ed%82%a4%ec%95%84%ec%9d%98-%ec%84%b1-%ec%9d%b4%eb%83%90%ec%8b%9c%ec%98%a4-%ec%a3%bc%ea%b5%90-%ec%88%9c%ea%b5%90%ec%9e%90-%ea%b8%b0%eb%85%90/
CATEGORIES:전례력
ATTACH;FMTTYPE=image/jpeg:https://sakhouston.org/wp-content/uploads/2025/09/10-17-Memorial-St-Ignatius-of-Antioch.jpg
END:VEVENT
BEGIN:VEVENT
DTSTART;TZID=America/Chicago:20251017T100000
DTEND;TZID=America/Chicago:20251017T103000
DTSTAMP:20260419T084927
CREATED:20251011T021332Z
LAST-MODIFIED:20251011T021332Z
UID:4086-1760695200-1760697000@sakhouston.org
SUMMARY:이번주 평일미사 없음
DESCRIPTION:본당신부님 미주사목 전주교구 사제모임 참석  \n– 이번주 평일미사 없음
URL:https://sakhouston.org/event/%ec%9d%b4%eb%b2%88%ec%a3%bc-%ed%8f%89%ec%9d%bc%eb%af%b8%ec%82%ac-%ec%97%86%ec%9d%8c-4/
CATEGORIES:평일미사
END:VEVENT
BEGIN:VEVENT
DTSTART;VALUE=DATE:20251018
DTEND;VALUE=DATE:20251019
DTSTAMP:20260419T084927
CREATED:20250927T220220Z
LAST-MODIFIED:20250927T220220Z
UID:3893-1760745600-1760831999@sakhouston.org
SUMMARY:전례력: 성 루카 복음사가 축일
DESCRIPTION:
URL:https://sakhouston.org/event/%ec%a0%84%eb%a1%80%eb%a0%a5-%ec%84%b1-%eb%a3%a8%ec%b9%b4-%eb%b3%b5%ec%9d%8c%ec%82%ac%ea%b0%80-%ec%b6%95%ec%9d%bc/
CATEGORIES:전례력
ATTACH;FMTTYPE=image/jpeg:https://sakhouston.org/wp-content/uploads/2025/09/10-18-Feast-St-Luke-the-Evangelist.jpg
END:VEVENT
BEGIN:VEVENT
DTSTART;VALUE=DATE:20251018
DTEND;VALUE=DATE:20251019
DTSTAMP:20260419T084927
CREATED:20251011T015859Z
LAST-MODIFIED:20251011T015859Z
UID:4078-1760745600-1760831999@sakhouston.org
SUMMARY:바자 판매용 2차 된장제조
DESCRIPTION:2차 된장제조: 10월18일(토)-구역장회 \n* 바자 된장판매용 빈병수거 안내 \n사용가능한 병: 가정에 있는 유리로 된 큰 김치병\, 중간 김치병 (플라스틱 김치병과 그밖의 사이즈 병 X)\n수거장소 – 친교관 성모회창고 쪽
URL:https://sakhouston.org/event/%eb%b0%94%ec%9e%90-%ed%8c%90%eb%a7%a4%ec%9a%a9-2%ec%b0%a8-%eb%90%9c%ec%9e%a5%ec%a0%9c%ec%a1%b0/
CATEGORIES:바자
ATTACH;FMTTYPE=image/jpeg:https://sakhouston.org/wp-content/uploads/2025/09/kimchi-bottles.jpg
END:VEVENT
BEGIN:VEVENT
DTSTART;TZID=America/Chicago:20251018T180000
DTEND;TZID=America/Chicago:20251018T200000
DTSTAMP:20260419T084927
CREATED:20251011T024244Z
LAST-MODIFIED:20251011T024244Z
UID:4092-1760810400-1760817600@sakhouston.org
SUMMARY:10월달 구역미사/모임
DESCRIPTION:7E구역: 천사의집 6시 \n7W구역: 경조현/임소영 가정 6시
URL:https://sakhouston.org/event/10%ec%9b%94%eb%8b%ac-%ea%b5%ac%ec%97%ad%eb%af%b8%ec%82%ac-%eb%aa%a8%ec%9e%84/
CATEGORIES:구역미사
END:VEVENT
BEGIN:VEVENT
DTSTART;TZID=America/Chicago:20251018T180000
DTEND;TZID=America/Chicago:20251018T210000
DTSTAMP:20260419T084927
CREATED:20251003T215705Z
LAST-MODIFIED:20251003T215705Z
UID:3920-1760810400-1760821200@sakhouston.org
SUMMARY:10월달 구역모임 안내
DESCRIPTION:7E구역: 친교관 6시 \n7W구역: 경조현/임소영 가정 6시
URL:https://sakhouston.org/event/10%ec%9b%94%eb%8b%ac-%ea%b5%ac%ec%97%ad%eb%aa%a8%ec%9e%84-%ec%95%88%eb%82%b4/
CATEGORIES:교육,모임
END:VEVENT
BEGIN:VEVENT
DTSTART;VALUE=DATE:20251019
DTEND;VALUE=DATE:20251020
DTSTAMP:20260419T084927
CREATED:20251003T221927Z
LAST-MODIFIED:20251003T221927Z
UID:3926-1760832000-1760918399@sakhouston.org
SUMMARY:주일 봉사
DESCRIPTION:  \n전례 봉사\n10월 19일 \n\n\n연중 제29주일 \n\n\n9시 미사 \n교중미사 \n\n\n미사 해설 \n안혜원\n아녜스\n남지영\n이레나\n\n\n제 1 독서 \n은정철\n토마스\n강병규\n실베스텔\n\n\n제 2 독서 \n은미숙\n헬레나\n서경희\n루시아\n\n\n교중미사 복사 \n최분규 블라시오\n남덕화 빈첸시오\n\n\n교중미사 봉헌 \n김재중 니콜라오\n김명희 루크레시아\n\n\n교중미사 안내 \n 강경준 토마스\n정태환 클레멘스\n\n\n주일점심 봉사 \n8구역
URL:https://sakhouston.org/event/%ec%a3%bc%ec%9d%bc-%eb%b4%89%ec%82%ac-7/
CATEGORIES:주일 봉사
END:VEVENT
BEGIN:VEVENT
DTSTART;TZID=America/Chicago:20251019T090000
DTEND;TZID=America/Chicago:20251019T113000
DTSTAMP:20260419T084927
CREATED:20251011T023225Z
LAST-MODIFIED:20251011T023225Z
UID:4088-1760864400-1760873400@sakhouston.org
SUMMARY:2차헌금: 전교주일 World Mission Sunday ‘Propagation of the Faith'
DESCRIPTION:
URL:https://sakhouston.org/event/2%ec%b0%a8%ed%97%8c%ea%b8%88-%ec%a0%84%ea%b5%90%ec%a3%bc%ec%9d%bc-world-mission-sunday-propagation-of-the-faith/
CATEGORIES:2차헌금
ATTACH;FMTTYPE=image/jpeg:https://sakhouston.org/wp-content/uploads/2025/10/offerring-basket.jpg
END:VEVENT
BEGIN:VEVENT
DTSTART;TZID=America/Chicago:20251019T113000
DTEND;TZID=America/Chicago:20251019T133000
DTSTAMP:20260419T084927
CREATED:20251018T020231Z
LAST-MODIFIED:20251019T213315Z
UID:4321-1760873400-1760880600@sakhouston.org
SUMMARY:바자 된장 선판매 판매일시
DESCRIPTION:오늘(10월19일)과 다음주일 미사후 친교관 \n판매가격: 큰병: $40 작은병: $20
URL:https://sakhouston.org/event/%eb%b0%94%ec%9e%90-%eb%90%9c%ec%9e%a5-%ec%84%a0%ed%8c%90%eb%a7%a4-%ed%8c%90%eb%a7%a4%ec%9d%bc%ec%8b%9c/
CATEGORIES:바자
ATTACH;FMTTYPE=image/jpeg:https://sakhouston.org/wp-content/uploads/2025/10/daenjang-jars.jpg
END:VEVENT
BEGIN:VEVENT
DTSTART;TZID=America/Chicago:20251019T120000
DTEND;TZID=America/Chicago:20251019T150000
DTSTAMP:20260419T084927
CREATED:20251011T023735Z
LAST-MODIFIED:20251011T023735Z
UID:4090-1760875200-1760886000@sakhouston.org
SUMMARY:구역장회의
DESCRIPTION:점심식사후 교육관 2층  \n– 바자준비모임  \n– 모든 구역 참 석필수
URL:https://sakhouston.org/event/%ea%b5%ac%ec%97%ad%ec%9e%a5%ed%9a%8c%ec%9d%98-2/
CATEGORIES:구역장회의
END:VEVENT
BEGIN:VEVENT
DTSTART;TZID=America/Chicago:20251021T190000
DTEND;TZID=America/Chicago:20251021T200000
DTSTAMP:20260419T084927
CREATED:20251019T214713Z
LAST-MODIFIED:20251020T032835Z
UID:4336-1761073200-1761076800@sakhouston.org
SUMMARY:부고 알림: 고 임창성 프란치스코 형제님
DESCRIPTION:장례일정 공고합니다 \n안녕하세요?\n오늘 선종하신 고 임창성 프란치스코 형제님의 장례일정이 확정되어 공고합니다. \n합동연도: 10월 21일 화요일 저녁 7시 정각에 메모리얼 옥에서\n( Eldridge @ I-10) \n장례미사: 10월 22일 수요일 아침 10시 정각에 우리 성당에서 \n화장으로 치러질 예정입니다.\n그리고 장례식측에서는 저녁 8시까지 밖에 우리가 연도와 친교를 나눌 수 없다고 하니 참고해 주시기 바랍니다. 많이 참석해 주시기 바랍니다.
URL:https://sakhouston.org/event/%eb%b6%80%ea%b3%a0-%ec%95%8c%eb%a6%bc-%ea%b3%a0-%ec%9e%84%ec%b0%bd%ec%84%b1-%ed%94%84%eb%9e%80%ec%b9%98%ec%8a%a4%ec%bd%94-%ed%98%95%ec%a0%9c%eb%8b%98/
LOCATION:Memorial Oaks Funeral Home & Cemetery\, 13001 Katy Fwy\, Houston\, TX\, 77079\, United States
ATTACH;FMTTYPE=image/jpeg:https://sakhouston.org/wp-content/uploads/2025/10/임창성-프란치스코_1-101825.jpg
END:VEVENT
BEGIN:VEVENT
DTSTART;TZID=America/Chicago:20251022T100000
DTEND;TZID=America/Chicago:20251022T233000
DTSTAMP:20260419T084927
CREATED:20251019T215228Z
LAST-MODIFIED:20251020T033024Z
UID:4340-1761127200-1761175800@sakhouston.org
SUMMARY:부고 알림: 고 임창성 프란치스코 형제님
DESCRIPTION:장례미사: 10월 22일 수요일 아침 10시 정각에 우리 성당에서 \n화장으로 치러질 예정입니다.\n그리고 장례식측에서는 저녁 8시까지 밖에 우리가 연도와 친교를 나눌 수 없다고 하니 참고해 주시기 바랍니다. 많이 참석해 주시기 바랍니다.
URL:https://sakhouston.org/event/%eb%b6%80%ea%b3%a0-%ec%95%8c%eb%a6%bc-%ea%b3%a0-%ec%9e%84%ec%b0%bd%ec%84%b1-%ed%94%84%eb%9e%80%ec%b9%98%ec%8a%a4%ec%bd%94-%ed%98%95%ec%a0%9c%eb%8b%98-2/
LOCATION:휴스턴 성 김대건 한인 성당\, 1706 Bingle Road\, Houston\, TX\, 77055\, United States
ATTACH;FMTTYPE=image/jpeg:https://sakhouston.org/wp-content/uploads/2025/10/임창성-프란치스코_1-101825.jpg
END:VEVENT
BEGIN:VEVENT
DTSTART;TZID=America/Chicago:20251024T190000
DTEND;TZID=America/Chicago:20251024T220000
DTSTAMP:20260419T084927
CREATED:20251011T024516Z
LAST-MODIFIED:20251011T024516Z
UID:4094-1761332400-1761343200@sakhouston.org
SUMMARY:10월달 구역미사/모임
DESCRIPTION:10구역미사\n김재문/김춘옥가정
URL:https://sakhouston.org/event/10%ec%9b%94%eb%8b%ac-%ea%b5%ac%ec%97%ad%eb%af%b8%ec%82%ac-%eb%aa%a8%ec%9e%84-2/
CATEGORIES:구역미사
END:VEVENT
BEGIN:VEVENT
DTSTART;VALUE=DATE:20251025
DTEND;VALUE=DATE:20251110
DTSTAMP:20260419T084927
CREATED:20250904T023309Z
LAST-MODIFIED:20251025T221541Z
UID:3014-1761350400-1762732799@sakhouston.org
SUMMARY:2025년 본당 신자 센서스
DESCRIPTION:각 구역 제출 마감일 11월 9일(주일)까지 본당사무실 \n기간: 2025년 하반기 \n1. 구역 단위:  8월부터 구역모임을 통한 설문조사 \n2. 구역에 속해있지 않은 활동 신자:  본당 각 단체에 설문조사 \n3. 미사참례만하는 신자:  성당입구에 설문지 비치 \n* 설문을 마친 구역과 단체는 본당 사무실로\n제출 바랍니다.
URL:https://sakhouston.org/event/2025%eb%85%84-%eb%b3%b8%eb%8b%b9-%ec%8b%a0%ec%9e%90-%ec%84%bc%ec%84%9c%ec%8a%a4/
CATEGORIES:본당 신자 센서스
END:VEVENT
BEGIN:VEVENT
DTSTART;TZID=America/Chicago:20251025T180000
DTEND;TZID=America/Chicago:20251025T200000
DTSTAMP:20260419T084927
CREATED:20251018T022951Z
LAST-MODIFIED:20251018T023843Z
UID:4328-1761415200-1761422400@sakhouston.org
SUMMARY:All Saints' Day - 주일학교
DESCRIPTION:장소: 친교관  \n입장료: $5. \n대상: 주일학교 학생들
URL:https://sakhouston.org/event/all-saints-day-%ec%a3%bc%ec%9d%bc%ed%95%99%ea%b5%90/
CATEGORIES:주일학교
ATTACH;FMTTYPE=image/jpeg:https://sakhouston.org/wp-content/uploads/2025/10/all-saints-day-sunday-school.jpg
END:VEVENT
BEGIN:VEVENT
DTSTART;VALUE=DATE:20251026
DTEND;VALUE=DATE:20251027
DTSTAMP:20260419T084927
CREATED:20251011T030400Z
LAST-MODIFIED:20251011T030400Z
UID:4096-1761436800-1761523199@sakhouston.org
SUMMARY:주일 봉사
DESCRIPTION:  \n전례 봉사\n10월 26일 \n\n\n연중 제30주일 \n\n\n9시 미사 \n교중미사 \n\n\n미사 해설 \n신지영\n안나\n김 홍\n안토니오\n\n\n제 1 독서 \n경조현\n프란치스코\n김재문\n안드레아\n\n\n제 2 독서 \n임소영\n베로니카\n김혜숙\n브리짓다\n\n\n교중미사 복사 \n한명규 야고보\n전재영 마르코\n\n\n교중미사 봉헌 \n김용선 마르티노\n김미림 젬마\n\n\n교중미사 안내 \n 강경준 토마스\n정태환 클레멘스\n\n\n주일점심 봉사 \n9구역
URL:https://sakhouston.org/event/%ec%a3%bc%ec%9d%bc-%eb%b4%89%ec%82%ac-8/
CATEGORIES:주일 봉사
END:VEVENT
BEGIN:VEVENT
DTSTART;TZID=America/Chicago:20251026T113000
DTEND;TZID=America/Chicago:20251026T133000
DTSTAMP:20260419T084927
CREATED:20251018T020535Z
LAST-MODIFIED:20251019T213133Z
UID:4323-1761478200-1761485400@sakhouston.org
SUMMARY:바자 된장 선판매 판매일시
DESCRIPTION:오늘 (10월26일) 미사후 친교관 \n판매가격: 큰병: $40 작은병: $20
URL:https://sakhouston.org/event/%eb%b0%94%ec%9e%90-%eb%90%9c%ec%9e%a5-%ec%84%a0%ed%8c%90%eb%a7%a4-%ed%8c%90%eb%a7%a4%ec%9d%bc%ec%8b%9c-2/
CATEGORIES:바자
ATTACH;FMTTYPE=image/jpeg:https://sakhouston.org/wp-content/uploads/2025/10/daenjang-jars.jpg
END:VEVENT
BEGIN:VEVENT
DTSTART;TZID=America/Chicago:20251026T120000
DTEND;TZID=America/Chicago:20251026T140000
DTSTAMP:20260419T084927
CREATED:20251025T215101Z
LAST-MODIFIED:20251025T215101Z
UID:4368-1761480000-1761487200@sakhouston.org
SUMMARY:문학동호회
DESCRIPTION:오늘(10월26일) 점심식사후 교육관1층 예비자교리반
URL:https://sakhouston.org/event/%eb%ac%b8%ed%95%99%eb%8f%99%ed%98%b8%ed%9a%8c-2/
CATEGORIES:문학동호회
ATTACH;FMTTYPE=image/jpeg:https://sakhouston.org/wp-content/uploads/2025/09/books2.jpg
END:VEVENT
BEGIN:VEVENT
DTSTART;TZID=America/Chicago:20251026T120000
DTEND;TZID=America/Chicago:20251026T150000
DTSTAMP:20260419T084927
CREATED:20251025T214300Z
LAST-MODIFIED:20251025T215221Z
UID:4364-1761480000-1761490800@sakhouston.org
SUMMARY:꾸리아
DESCRIPTION:오늘(10월26일) 점심식사후 교육관2층 회합실 \n참석대상: 꾸리아간부및 각 쁘레 시디움 간부
URL:https://sakhouston.org/event/%ea%be%b8%eb%a6%ac%ec%95%84-2/
CATEGORIES:꾸리아
ATTACH;FMTTYPE=image/png:https://sakhouston.org/wp-content/uploads/2025/09/legio-mariae-vexillum_color.png
END:VEVENT
BEGIN:VEVENT
DTSTART;TZID=America/Chicago:20251026T120000
DTEND;TZID=America/Chicago:20251026T150000
DTSTAMP:20260419T084927
CREATED:20251025T214739Z
LAST-MODIFIED:20251025T214739Z
UID:4366-1761480000-1761490800@sakhouston.org
SUMMARY:50년사 준비위원회
DESCRIPTION:오늘(10월26일) 점심식사후 천사의집
URL:https://sakhouston.org/event/50%eb%85%84%ec%82%ac-%ec%a4%80%eb%b9%84%ec%9c%84%ec%9b%90%ed%9a%8c/
CATEGORIES:50년사
END:VEVENT
BEGIN:VEVENT
DTSTART;TZID=America/Chicago:20251026T150000
DTEND;TZID=America/Chicago:20251026T190000
DTSTAMP:20260419T084927
CREATED:20251018T023739Z
LAST-MODIFIED:20251018T023739Z
UID:4331-1761490800-1761505200@sakhouston.org
SUMMARY:칼리지스테이션 미사
DESCRIPTION:주일(10월 26일) 오후3시 본당신부님\n칼리지스테이션 미사 집전
URL:https://sakhouston.org/event/%ec%b9%bc%eb%a6%ac%ec%a7%80%ec%8a%a4%ed%85%8c%ec%9d%b4%ec%85%98-%eb%af%b8%ec%82%ac-2/
LOCATION:St. Mary’s Catholic Center\, 603 Church Ave\, College Station\, TX\, 77840\, United States
CATEGORIES:칼리지스테이션 미사
END:VEVENT
BEGIN:VEVENT
DTSTART;VALUE=DATE:20251028
DTEND;VALUE=DATE:20251029
DTSTAMP:20260419T084927
CREATED:20251008T165813Z
LAST-MODIFIED:20251008T165813Z
UID:3928-1761609600-1761695999@sakhouston.org
SUMMARY:전례력: 성 시몬과 성 유다(타대오) 사도 축일
DESCRIPTION:
URL:https://sakhouston.org/event/%ec%a0%84%eb%a1%80%eb%a0%a5-%ec%84%b1-%ec%8b%9c%eb%aa%ac%ea%b3%bc-%ec%84%b1-%ec%9c%a0%eb%8b%a4%ed%83%80%eb%8c%80%ec%98%a4-%ec%82%ac%eb%8f%84-%ec%b6%95%ec%9d%bc/
CATEGORIES:전례력
ATTACH;FMTTYPE=image/jpeg:https://sakhouston.org/wp-content/uploads/2025/10/10-28-Feast-St-Simon-Jude-Apostles.jpg
END:VEVENT
BEGIN:VEVENT
DTSTART;VALUE=DATE:20251030
DTEND;VALUE=DATE:20251031
DTSTAMP:20260419T084927
CREATED:20251018T021004Z
LAST-MODIFIED:20251018T021030Z
UID:4325-1761782400-1761868799@sakhouston.org
SUMMARY:바자 판매용 3차 된장제조 - 1구역
DESCRIPTION:* 바자 된장판매용 빈병수거 안내\n사용가능한 병: 가정에 있는 유리로 된 큰 김치병\, 중간 김치병 (플라스틱 김치병과 그밖의 사이즈 병 X)\n수거장소 – 친교관 성모회창고 쪽
URL:https://sakhouston.org/event/%eb%b0%94%ec%9e%90-%ed%8c%90%eb%a7%a4%ec%9a%a9-3%ec%b0%a8-%eb%90%9c%ec%9e%a5%ec%a0%9c%ec%a1%b0-1%ea%b5%ac%ec%97%ad/
CATEGORIES:바자
ATTACH;FMTTYPE=image/jpeg:https://sakhouston.org/wp-content/uploads/2025/09/kimchi-bottles.jpg
END:VEVENT
BEGIN:VEVENT
DTSTART;VALUE=DATE:20251101
DTEND;VALUE=DATE:20251102
DTSTAMP:20260419T084927
CREATED:20251008T170749Z
LAST-MODIFIED:20251008T170749Z
UID:3933-1761955200-1762041599@sakhouston.org
SUMMARY:전례력: 모든 성인의 대축일
DESCRIPTION:
URL:https://sakhouston.org/event/%ec%a0%84%eb%a1%80%eb%a0%a5-%eb%aa%a8%eb%93%a0-%ec%84%b1%ec%9d%b8%ec%9d%98-%eb%8c%80%ec%b6%95%ec%9d%bc/
CATEGORIES:전례력
ATTACH;FMTTYPE=image/jpeg:https://sakhouston.org/wp-content/uploads/2025/10/11-1-Solemnity-All-Saints.jpg
END:VEVENT
BEGIN:VEVENT
DTSTART;TZID=America/Chicago:20251101T100000
DTEND;TZID=America/Chicago:20251101T130000
DTSTAMP:20260419T084927
CREATED:20251025T220802Z
LAST-MODIFIED:20251025T220802Z
UID:4374-1761991200-1762002000@sakhouston.org
SUMMARY:재속프란치스코회
DESCRIPTION:토요일(11월 1일) 오전10시 천사의집
URL:https://sakhouston.org/event/%ec%9e%ac%ec%86%8d%ed%94%84%eb%9e%80%ec%b9%98%ec%8a%a4%ec%bd%94%ed%9a%8c/
CATEGORIES:재속 프란치스코회
ATTACH;FMTTYPE=image/jpeg:https://sakhouston.org/wp-content/uploads/2025/09/francis-of-assisi-statue-scaled.jpg
END:VEVENT
BEGIN:VEVENT
DTSTART;TZID=America/Chicago:20251101T170000
DTEND;TZID=America/Chicago:20251101T180000
DTSTAMP:20260419T084927
CREATED:20251025T215806Z
LAST-MODIFIED:20251025T215806Z
UID:4370-1762016400-1762020000@sakhouston.org
SUMMARY:모든 성인 대축일 미사
DESCRIPTION:
URL:https://sakhouston.org/event/%eb%aa%a8%eb%93%a0-%ec%84%b1%ec%9d%b8-%eb%8c%80%ec%b6%95%ec%9d%bc-%eb%af%b8%ec%82%ac/
CATEGORIES:미사
ATTACH;FMTTYPE=image/jpeg:https://sakhouston.org/wp-content/uploads/2025/10/11-1-Solemnity-All-Saints.jpg
END:VEVENT
BEGIN:VEVENT
DTSTART;VALUE=DATE:20251102
DTEND;VALUE=DATE:20251103
DTSTAMP:20260419T084927
CREATED:20251008T175615Z
LAST-MODIFIED:20251008T175615Z
UID:3938-1762041600-1762127999@sakhouston.org
SUMMARY:전례력: 죽은 모든 이를 기억하는 위령의 날
DESCRIPTION:
URL:https://sakhouston.org/event/%ec%a0%84%eb%a1%80%eb%a0%a5-%ec%a3%bd%ec%9d%80-%eb%aa%a8%eb%93%a0-%ec%9d%b4%eb%a5%bc-%ea%b8%b0%ec%96%b5%ed%95%98%eb%8a%94-%ec%9c%84%eb%a0%b9%ec%9d%98-%eb%82%a0/
CATEGORIES:전례력
ATTACH;FMTTYPE=image/jpeg:https://sakhouston.org/wp-content/uploads/2025/10/11-2-All-Souls-Day.jpg
END:VEVENT
BEGIN:VEVENT
DTSTART;VALUE=DATE:20251102
DTEND;VALUE=DATE:20251103
DTSTAMP:20260419T084927
CREATED:20251018T024749Z
LAST-MODIFIED:20251101T144941Z
UID:4333-1762041600-1762127999@sakhouston.org
SUMMARY:주일 봉사
DESCRIPTION:  \n전례 봉사\n11월 2일 \n\n\n위령의 날\n\n\n9시 미사 \n교중미사 \n\n\n미사 해설 \n윤인숙\n마리아 \n구지희\n클라우디아 \n\n\n제 1 독서 \n유선예\n이사벨라 \n 김규태\n요셉\n\n\n제 2 독서 \n 정길선\n헬레나\n조현정\n마리아\n프란체스카 \n\n\n교중미사 복사 \n민홍기 율리아노\n이동훈 리노\n\n\n교중미사 봉헌 \n 서동숙 카타리나\n신현애 젤뚜르다\n\n\n교중미사 안내 \n강경준 토마스\n정태환 클레멘스\n\n\n주일점심 봉사 \n*
URL:https://sakhouston.org/event/%ec%a3%bc%ec%9d%bc-%eb%b4%89%ec%82%ac-9/
CATEGORIES:주일 봉사
END:VEVENT
BEGIN:VEVENT
DTSTART;VALUE=DATE:20251102
DTEND;VALUE=DATE:20251103
DTSTAMP:20260419T084927
CREATED:20251025T221117Z
LAST-MODIFIED:20251025T221117Z
UID:4376-1762041600-1762127999@sakhouston.org
SUMMARY:일광절약시간제 해제
DESCRIPTION:주일(11월2일) 2am ‘Daylight Saving’으로 1시간 앞으로이동
URL:https://sakhouston.org/event/%ec%9d%bc%ea%b4%91%ec%a0%88%ec%95%bd%ec%8b%9c%ea%b0%84%ec%a0%9c-%ed%95%b4%ec%a0%9c/
CATEGORIES:일광절약시간제
END:VEVENT
END:VCALENDAR