BEGIN:VCALENDAR
VERSION:2.0
PRODID:-//휴스턴 성 김대건 한인 성당 - Houston - ECPv6.15.20//NONSGML v1.0//EN
CALSCALE:GREGORIAN
METHOD:PUBLISH
X-WR-CALNAME:휴스턴 성 김대건 한인 성당 - Houston
X-ORIGINAL-URL:https://sakhouston.org
X-WR-CALDESC:휴스턴 성 김대건 한인 성당 - Houston 이벤트
REFRESH-INTERVAL;VALUE=DURATION:PT1H
X-Robots-Tag:noindex
X-PUBLISHED-TTL:PT1H
BEGIN:VTIMEZONE
TZID:America/Chicago
BEGIN:DAYLIGHT
TZOFFSETFROM:-0600
TZOFFSETTO:-0500
TZNAME:CDT
DTSTART:20240310T080000
END:DAYLIGHT
BEGIN:STANDARD
TZOFFSETFROM:-0500
TZOFFSETTO:-0600
TZNAME:CST
DTSTART:20241103T070000
END:STANDARD
BEGIN:DAYLIGHT
TZOFFSETFROM:-0600
TZOFFSETTO:-0500
TZNAME:CDT
DTSTART:20250309T080000
END:DAYLIGHT
BEGIN:STANDARD
TZOFFSETFROM:-0500
TZOFFSETTO:-0600
TZNAME:CST
DTSTART:20251102T070000
END:STANDARD
BEGIN:DAYLIGHT
TZOFFSETFROM:-0600
TZOFFSETTO:-0500
TZNAME:CDT
DTSTART:20260308T080000
END:DAYLIGHT
BEGIN:STANDARD
TZOFFSETFROM:-0500
TZOFFSETTO:-0600
TZNAME:CST
DTSTART:20261101T070000
END:STANDARD
END:VTIMEZONE
BEGIN:VEVENT
DTSTART;TZID=America/Chicago:20250907T090000
DTEND;TZID=America/Chicago:20250907T113000
DTSTAMP:20260419T145654
CREATED:20250906T010506Z
LAST-MODIFIED:20250906T010506Z
UID:3190-1757235600-1757244600@sakhouston.org
SUMMARY:이번주 미사
DESCRIPTION:이번주 주일(9월7일) 오전 9시 & 10:30분 미사를 아우구스티노 수도회 양윤모 필립보 신부님께서 집전해 주실 예정입 다.
URL:https://sakhouston.org/event/%ec%9d%b4%eb%b2%88%ec%a3%bc-%eb%af%b8%ec%82%ac/
LOCATION:TX
CATEGORIES:미사
ATTACH;FMTTYPE=image/jpeg:https://sakhouston.org/wp-content/uploads/2025/09/Fr-Philip-Yang-of-Augustinian-Order.jpg
END:VEVENT
BEGIN:VEVENT
DTSTART;VALUE=DATE:20250907
DTEND;VALUE=DATE:20250908
DTSTAMP:20260419T145654
CREATED:20250909T012648Z
LAST-MODIFIED:20250909T013139Z
UID:3424-1757203200-1757289599@sakhouston.org
SUMMARY:주일 봉사
DESCRIPTION:  \n전례 봉사\n9월 7일 \n\n\n연중 제23주일 \n\n\n9시 미사 \n교중미사 \n\n\n미사 해설 \n신지영\n안나 \n김 홍\n안토니오 \n\n\n제 1 독서 \n유선예\n이사벨라 \n김범영\n베드로 \n\n\n제 2 독서 \n정길선\n헬레나 \n김혜숙\n브리짓다 \n\n\n교중미사 복사 \n유광희 알베르토\n강승우 야고보\n\n\n교중미사 봉헌 \n김종국 사베리오\n김숙원 발렌티나\n\n\n교중미사 안내 \n강경준 토마스\n정태환 클레멘스\n\n\n주일점심 봉사 \n1구역
URL:https://sakhouston.org/event/%ec%a3%bc%ec%9d%bc-%eb%b4%89%ec%82%ac/
LOCATION:TX
CATEGORIES:주일 봉사
END:VEVENT
BEGIN:VEVENT
DTSTART;TZID=America/Chicago:20250906T170000
DTEND;TZID=America/Chicago:20250906T180000
DTSTAMP:20260419T145654
CREATED:20250904T022002Z
LAST-MODIFIED:20250906T005951Z
UID:3008-1757178000-1757181600@sakhouston.org
SUMMARY:다음주일 미사 안내
DESCRIPTION:이번주 토요일(9월6일) 오후5시미사를 아우구스티노 수도회 양윤모 필립보 신부님께서 집전해 주실 예정입 다.
URL:https://sakhouston.org/event/%eb%8b%a4%ec%9d%8c%ec%a3%bc%ec%9d%bc-%eb%af%b8%ec%82%ac-%ec%95%88%eb%82%b4/
LOCATION:TX
CATEGORIES:미사
ATTACH;FMTTYPE=image/jpeg:https://sakhouston.org/wp-content/uploads/2025/09/Fr-Philip-Yang-of-Augustinian-Order.jpg
END:VEVENT
BEGIN:VEVENT
DTSTART;TZID=America/Chicago:20250906T100000
DTEND;TZID=America/Chicago:20250906T130000
DTSTAMP:20260419T145654
CREATED:20250904T020454Z
LAST-MODIFIED:20250904T020454Z
UID:2999-1757152800-1757163600@sakhouston.org
SUMMARY:재속 프란치스코회
DESCRIPTION:이번주 토요일(9월6일)은 재속프란치스 코회 모임이 오전 10시에 천사의집에서 있습니다. \n관심있는 신자분들을 환영합 니다.
URL:https://sakhouston.org/event/%ec%9e%ac%ec%86%8d-%ed%94%84%eb%9e%80%ec%b9%98%ec%8a%a4%ec%bd%94%ed%9a%8c/
LOCATION:TX
CATEGORIES:재속 프란치스코회
ATTACH;FMTTYPE=image/jpeg:https://sakhouston.org/wp-content/uploads/2025/09/francis-of-assisi-statue-scaled.jpg
END:VEVENT
BEGIN:VEVENT
DTSTART;TZID=America/Chicago:20250902T190000
DTEND;TZID=America/Chicago:20250905T103000
DTSTAMP:20260419T145654
CREATED:20250904T022503Z
LAST-MODIFIED:20250904T022503Z
UID:3012-1756839600-1757068200@sakhouston.org
SUMMARY:이번주 평일미사 안내
DESCRIPTION:본당신부님 휴가로 이번주 화요일(9월2일) 부터 금요일(9월5일)까지 본당 평일미사가 없습니다. \n또한\, 9월달 성시간과 첫토요일 성모신심미사가 없겠습니다. \n신자여러분 들께서는 참고하시기 바랍니다.
URL:https://sakhouston.org/event/%ec%9d%b4%eb%b2%88%ec%a3%bc-%ed%8f%89%ec%9d%bc%eb%af%b8%ec%82%ac-%ec%95%88%eb%82%b4/
LOCATION:TX
END:VEVENT
END:VCALENDAR