BEGIN:VCALENDAR
VERSION:2.0
PRODID:-//휴스턴 성 김대건 한인 성당 - Houston - ECPv6.15.20//NONSGML v1.0//EN
CALSCALE:GREGORIAN
METHOD:PUBLISH
X-WR-CALNAME:휴스턴 성 김대건 한인 성당 - Houston
X-ORIGINAL-URL:https://sakhouston.org
X-WR-CALDESC:휴스턴 성 김대건 한인 성당 - Houston 이벤트
REFRESH-INTERVAL;VALUE=DURATION:PT1H
X-Robots-Tag:noindex
X-PUBLISHED-TTL:PT1H
BEGIN:VTIMEZONE
TZID:America/Chicago
BEGIN:DAYLIGHT
TZOFFSETFROM:-0600
TZOFFSETTO:-0500
TZNAME:CDT
DTSTART:20240310T080000
END:DAYLIGHT
BEGIN:STANDARD
TZOFFSETFROM:-0500
TZOFFSETTO:-0600
TZNAME:CST
DTSTART:20241103T070000
END:STANDARD
BEGIN:DAYLIGHT
TZOFFSETFROM:-0600
TZOFFSETTO:-0500
TZNAME:CDT
DTSTART:20250309T080000
END:DAYLIGHT
BEGIN:STANDARD
TZOFFSETFROM:-0500
TZOFFSETTO:-0600
TZNAME:CST
DTSTART:20251102T070000
END:STANDARD
BEGIN:DAYLIGHT
TZOFFSETFROM:-0600
TZOFFSETTO:-0500
TZNAME:CDT
DTSTART:20260308T080000
END:DAYLIGHT
BEGIN:STANDARD
TZOFFSETFROM:-0500
TZOFFSETTO:-0600
TZNAME:CST
DTSTART:20261101T070000
END:STANDARD
END:VTIMEZONE
BEGIN:VEVENT
DTSTART;VALUE=DATE:20250923
DTEND;VALUE=DATE:20250924
DTSTAMP:20260419T150452
CREATED:20250920T162034Z
LAST-MODIFIED:20250924T233343Z
UID:3563-1758585600-1758671999@sakhouston.org
SUMMARY:전례력: 피에트렐- 치나의 성 비오 사제 기념일
DESCRIPTION:피에트렐-\n치나의 성 비오 사제 기념일
URL:https://sakhouston.org/event/%ec%a0%84%eb%a1%80%eb%a0%a5-2/
LOCATION:TX
CATEGORIES:전례력
ATTACH;FMTTYPE=image/jpeg:https://sakhouston.org/wp-content/uploads/2025/09/9-23-Memorial-st-padre-pio.jpg
END:VEVENT
BEGIN:VEVENT
DTSTART;TZID=America/Chicago:20250921T123000
DTEND;TZID=America/Chicago:20250921T143000
DTSTAMP:20260419T150452
CREATED:20250907T232240Z
LAST-MODIFIED:20250907T232240Z
UID:3321-1758457800-1758465000@sakhouston.org
SUMMARY:재속 프란치스코회
DESCRIPTION:재속 프란치스코회 open house @ 천사의집
URL:https://sakhouston.org/event/%ec%9e%ac%ec%86%8d-%ed%94%84%eb%9e%80%ec%b9%98%ec%8a%a4%ec%bd%94%ed%9a%8c-2/
LOCATION:TX
CATEGORIES:재속 프란치스코회
END:VEVENT
BEGIN:VEVENT
DTSTART;TZID=America/Chicago:20250921T123000
DTEND;TZID=America/Chicago:20250921T143000
DTSTAMP:20260419T150452
CREATED:20250907T231735Z
LAST-MODIFIED:20250912T211922Z
UID:3318-1758457800-1758465000@sakhouston.org
SUMMARY:사목회의
DESCRIPTION:본당 사목회의가 다음주일(9월 21일) 점심 식사후 교육관에서 있습니다. \n사목위원들 께서는 모두 참석해 주시기 바랍니다.
URL:https://sakhouston.org/event/%ec%82%ac%eb%aa%a9%ed%9a%8c/
LOCATION:TX
CATEGORIES:사목회
END:VEVENT
BEGIN:VEVENT
DTSTART;TZID=America/Chicago:20250921T090000
DTEND;TZID=America/Chicago:20250921T133000
DTSTAMP:20260419T150452
CREATED:20250920T155537Z
LAST-MODIFIED:20250920T155542Z
UID:3555-1758445200-1758461400@sakhouston.org
SUMMARY:바자 판매용 빈병 수거 안내
DESCRIPTION:1구역에서 바자에서 판매할 된장병을 수거 합니다. 올해도 된장판매에 교우여러분들 의 많은 협조 바랍니다.\n1. 사용 가능한 유리병: 가정에 있는 유리로 된 큰 김치병\, 중간 김치병 (플라스틱 김치병과 그밖의 사이즈 병 X)\n2. 수거장소: 성모회 창고쪽 친교관 무대 위
URL:https://sakhouston.org/event/%eb%b0%94%ec%9e%90-%ed%8c%90%eb%a7%a4%ec%9a%a9-%eb%b9%88%eb%b3%91-%ec%88%98%ea%b1%b0-%ec%95%88%eb%82%b4/
LOCATION:TX
CATEGORIES:바자
END:VEVENT
BEGIN:VEVENT
DTSTART;VALUE=DATE:20250921
DTEND;VALUE=DATE:20250922
DTSTAMP:20260419T150452
CREATED:20250912T215907Z
LAST-MODIFIED:20250912T215907Z
UID:3530-1758412800-1758499199@sakhouston.org
SUMMARY:전례력: 성 김대건 안드레아 사제와 성 정하상 바오로와 동료 순교자들 대축일
DESCRIPTION:
URL:https://sakhouston.org/event/%ec%a0%84%eb%a1%80%eb%a0%a5-%ec%84%b1-%ea%b9%80%eb%8c%80%ea%b1%b4-%ec%95%88%eb%93%9c%eb%a0%88%ec%95%84-%ec%82%ac%ec%a0%9c%ec%99%80-%ec%84%b1-%ec%a0%95%ed%95%98%ec%83%81-%eb%b0%94%ec%98%a4%eb%a1%9c/
LOCATION:TX
CATEGORIES:전례력
ATTACH;FMTTYPE=image/gif:https://sakhouston.org/wp-content/uploads/2025/09/gwfull20200519142739.gif
END:VEVENT
BEGIN:VEVENT
DTSTART;VALUE=DATE:20250921
DTEND;VALUE=DATE:20250922
DTSTAMP:20260419T150452
CREATED:20250909T013706Z
LAST-MODIFIED:20250920T160145Z
UID:3432-1758412800-1758499199@sakhouston.org
SUMMARY:주일 봉사
DESCRIPTION:  \n전례 봉사\n9월 21일 \n\n\n한국 순교자 대축일\n\n\n9시 미사 \n교중미사 \n\n\n미사 해설 \n구지희\n클라우디아\n남지영\n이레나\n\n\n제 1 독서 \n경조현\n프란치스코\n김재문\n안드레아\n\n\n제 2 독서 \n임소영\n베로니카\n조현정\n마리아\n프란체스카\n\n\n교중미사 복사 \n신인식 도미니꼬\n이동훈 리노\n방하중 돈보스코\n전재영 마르코\n\n\n교중미사 봉헌 \n장진우 안셀모\n장성희 글라라\n\n\n교중미사 안내 \n강경준 토마스\n정태환 클레멘스\n\n\n주일점심 봉사 \n7W구역
URL:https://sakhouston.org/event/%ec%a3%bc%ec%9d%bc-%eb%b4%89%ec%82%ac-3/
LOCATION:TX
CATEGORIES:주일 봉사
END:VEVENT
BEGIN:VEVENT
DTSTART;TZID=America/Chicago:20250919T180000
DTEND;TZID=America/Chicago:20250919T210000
DTSTAMP:20260419T150452
CREATED:20250912T211427Z
LAST-MODIFIED:20250912T211427Z
UID:3511-1758304800-1758315600@sakhouston.org
SUMMARY:9월달 구역미사/모임
DESCRIPTION:9구역미사 : 9/19(금) 6pm 김선용/김안젤라 가정
URL:https://sakhouston.org/event/9%ec%9b%94%eb%8b%ac-%ea%b5%ac%ec%97%ad%eb%af%b8%ec%82%ac-%eb%aa%a8%ec%9e%84/
LOCATION:TX
CATEGORIES:구역미사,모임
END:VEVENT
BEGIN:VEVENT
DTSTART;TZID=America/Chicago:20250919T100000
DTEND;TZID=America/Chicago:20250919T103000
DTSTAMP:20260419T150452
CREATED:20250912T210832Z
LAST-MODIFIED:20250912T210832Z
UID:3509-1758276000-1758277800@sakhouston.org
SUMMARY:이번주 평일미사 안내
DESCRIPTION:본당신부님 휴가로 이번주 화요일(9월16일) 부터 금요일(9월19일)까지 본당 평일미사 가 없습니다. \n신자여러분들께서는 참고하 시기 바랍니다.
URL:https://sakhouston.org/event/%ec%9d%b4%eb%b2%88%ec%a3%bc-%ed%8f%89%ec%9d%bc%eb%af%b8%ec%82%ac-%ec%95%88%eb%82%b4-9/
LOCATION:TX
CATEGORIES:평일미사
END:VEVENT
BEGIN:VEVENT
DTSTART;TZID=America/Chicago:20250918T190000
DTEND;TZID=America/Chicago:20250918T193000
DTSTAMP:20260419T150452
CREATED:20250912T210648Z
LAST-MODIFIED:20250912T210648Z
UID:3507-1758222000-1758223800@sakhouston.org
SUMMARY:이번주 평일미사 안내
DESCRIPTION:본당신부님 휴가로 이번주 화요일(9월16일) 부터 금요일(9월19일)까지 본당 평일미사 가 없습니다. \n신자여러분들께서는 참고하 시기 바랍니다.
URL:https://sakhouston.org/event/%ec%9d%b4%eb%b2%88%ec%a3%bc-%ed%8f%89%ec%9d%bc%eb%af%b8%ec%82%ac-%ec%95%88%eb%82%b4-8/
LOCATION:TX
CATEGORIES:평일미사
END:VEVENT
BEGIN:VEVENT
DTSTART;TZID=America/Chicago:20250917T190000
DTEND;TZID=America/Chicago:20250917T193000
DTSTAMP:20260419T150452
CREATED:20250912T210236Z
LAST-MODIFIED:20250912T210236Z
UID:3505-1758135600-1758137400@sakhouston.org
SUMMARY:이번주 평일미사 안내
DESCRIPTION:본당신부님 휴가로 이번주 화요일(9월16일) 부터 금요일(9월19일)까지 본당 평일미사 가 없습니다. \n신자여러분들께서는 참고하 시기 바랍니다.
URL:https://sakhouston.org/event/%ec%9d%b4%eb%b2%88%ec%a3%bc-%ed%8f%89%ec%9d%bc%eb%af%b8%ec%82%ac-%ec%95%88%eb%82%b4-7/
LOCATION:TX
CATEGORIES:평일미사
END:VEVENT
BEGIN:VEVENT
DTSTART;TZID=America/Chicago:20250916T190000
DTEND;TZID=America/Chicago:20250916T193000
DTSTAMP:20260419T150452
CREATED:20250912T210059Z
LAST-MODIFIED:20250912T210059Z
UID:3503-1758049200-1758051000@sakhouston.org
SUMMARY:이번주 평일미사 안내
DESCRIPTION:본당신부님 휴가로 이번주 화요일(9월16일) 부터 금요일(9월19일)까지 본당 평일미사 가 없습니다. \n신자여러분들께서는 참고하 시기 바랍니다.
URL:https://sakhouston.org/event/%ec%9d%b4%eb%b2%88%ec%a3%bc-%ed%8f%89%ec%9d%bc%eb%af%b8%ec%82%ac-%ec%95%88%eb%82%b4-6/
LOCATION:TX
CATEGORIES:평일미사
END:VEVENT
BEGIN:VEVENT
DTSTART;VALUE=DATE:20250916
DTEND;VALUE=DATE:20250917
DTSTAMP:20260419T150452
CREATED:20250915T174845Z
LAST-MODIFIED:20250924T222135Z
UID:3537-1757980800-1758067199@sakhouston.org
SUMMARY:전례력: 성 고르넬리오 교황과 성 치프리아노 주교 순교자 기념일
DESCRIPTION:
URL:https://sakhouston.org/event/%ec%a0%84%eb%a1%80%eb%a0%a5-%ec%84%b1-%ea%b3%a0%eb%a5%b4%eb%84%ac%eb%a6%ac%ec%98%a4-%ea%b5%90%ed%99%a9%ea%b3%bc-%ec%84%b1-%ec%b9%98%ed%94%84%eb%a6%ac%ec%95%84%eb%85%b8-%ec%a3%bc%ea%b5%90-%ec%88%9c/
LOCATION:TX
CATEGORIES:전례력
ATTACH;FMTTYPE=image/png:https://sakhouston.org/wp-content/uploads/2025/09/9-16-Memorial-st-Cornelius-Cyprian.png
END:VEVENT
BEGIN:VEVENT
DTSTART;VALUE=DATE:20250915
DTEND;VALUE=DATE:20250916
DTSTAMP:20260419T150452
CREATED:20250912T215225Z
LAST-MODIFIED:20250924T222047Z
UID:3527-1757894400-1757980799@sakhouston.org
SUMMARY:전례력: 고통의 마리아 기념일
DESCRIPTION:
URL:https://sakhouston.org/event/%ec%a0%84%eb%a1%80%eb%a0%a5-%ea%b3%a0%ed%86%b5%ec%9d%98-%eb%a7%88%eb%a6%ac%ec%95%84-%ea%b8%b0%eb%85%90%ec%9d%bc/
LOCATION:TX
ATTACH;FMTTYPE=image/jpeg:https://sakhouston.org/wp-content/uploads/2025/09/9-15-Memorial-Our-Lady-of-Sorrows-scaled.jpg
END:VEVENT
BEGIN:VEVENT
DTSTART;TZID=America/Chicago:20250914T123000
DTEND;TZID=America/Chicago:20250914T143000
DTSTAMP:20260419T150452
CREATED:20250906T013757Z
LAST-MODIFIED:20250912T205822Z
UID:3205-1757853000-1757860200@sakhouston.org
SUMMARY:구역장회의
DESCRIPTION:본당 구역장회의가 오늘(9월 14일) 점심 식사 후 교육관 2층 큰방에서 있겠습니다.\n각 구역장들께서는 모두 참석해 주시기 바랍 니다.
URL:https://sakhouston.org/event/%ea%b5%ac%ec%97%ad%ec%9e%a5%ed%9a%8c%ec%9d%98/
LOCATION:TX
CATEGORIES:구역장회의
END:VEVENT
BEGIN:VEVENT
DTSTART;TZID=America/Chicago:20250914T103000
DTEND;TZID=America/Chicago:20250914T113000
DTSTAMP:20260419T150452
CREATED:20250907T215537Z
LAST-MODIFIED:20250912T205250Z
UID:3315-1757845800-1757849400@sakhouston.org
SUMMARY:주일미사
DESCRIPTION:오전 9시 미사 없음\n오전 10:30 미사 집전 Fr. Mike Barossa 신부님께서 집전해 주시 겠습니다 (St. Cecilia Catholic Church)
URL:https://sakhouston.org/event/%ec%a3%bc%ec%9d%bc%eb%af%b8%ec%82%ac/
LOCATION:TX
CATEGORIES:주말 미사
END:VEVENT
BEGIN:VEVENT
DTSTART;TZID=America/Chicago:20250914T090000
DTEND;TZID=America/Chicago:20250914T113000
DTSTAMP:20260419T150452
CREATED:20250912T205716Z
LAST-MODIFIED:20250912T205716Z
UID:3500-1757840400-1757849400@sakhouston.org
SUMMARY:예비자 교리반 시작
DESCRIPTION:2026년 부활절 세례를 위한 예비자 교리 교육이 지난주일(9월 7일) 첫수업을 시작 했습니다. \n예비자 교리반을 위하여 기도해 주시기 바랍니다.
URL:https://sakhouston.org/event/%ec%98%88%eb%b9%84%ec%9e%90-%ea%b5%90%eb%a6%ac%eb%b0%98-%ec%8b%9c%ec%9e%91/
LOCATION:TX
CATEGORIES:예비자
END:VEVENT
BEGIN:VEVENT
DTSTART;TZID=America/Chicago:20250914T090000
DTEND;TZID=America/Chicago:20250914T113000
DTSTAMP:20260419T150452
CREATED:20250906T013528Z
LAST-MODIFIED:20250906T013528Z
UID:3203-1757840400-1757849400@sakhouston.org
SUMMARY:중동지역과 가자(Gaza) 복구를 돕는 2차헌금
DESCRIPTION:현재 중동지역과 가자지역에 여러차례의 폭격으로 피해를 당한 민간인들이 최소 의 생활조차 이어가기 어려운 상황에 있 습니다. \n이에 다음주일(9월14일) 미사중 특별 2차헌금 ‘Gaza and Middle East Relief’이 있겠습니다. \n신자여러분들의 정성스런 봉헌 바랍니다.
URL:https://sakhouston.org/event/%ec%a4%91%eb%8f%99%ec%a7%80%ec%97%ad%ea%b3%bc-%ea%b0%80%ec%9e%90gaza-%eb%b3%b5%ea%b5%ac%eb%a5%bc-%eb%8f%95%eb%8a%94-2%ec%b0%a8%ed%97%8c%ea%b8%88/
LOCATION:TX
CATEGORIES:2차헌금
ATTACH;FMTTYPE=image/jpeg:https://sakhouston.org/wp-content/uploads/2025/09/church-offering-box-scaled.jpg
END:VEVENT
BEGIN:VEVENT
DTSTART;VALUE=DATE:20250914
DTEND;VALUE=DATE:20250915
DTSTAMP:20260419T150452
CREATED:20250912T214015Z
LAST-MODIFIED:20250912T214139Z
UID:3522-1757808000-1757894399@sakhouston.org
SUMMARY:주일 봉사
DESCRIPTION:  \n전례 봉사\n9월 14일 \n\n\n성 십자가 현양 축일\n\n\n9시 미사 \n교중미사 \n\n\n미사 해설 \n  \n미사\n없음\n류희정\n세실리아\n\n\n제 1 독서 \n강병규\n실베스텔\n\n\n제 2 독서 \n서경희\n루시아\n\n\n교중미사 복사 \n최분규 블라시오\n탄시총 프란치스코 하 비에르\n\n\n교중미사 봉헌 \n김윤정 세실리아\n이준문 까리따스\n\n\n교중미사 안내 \n강경준 토마스\n정태환 클레멘스\n\n\n주일점심 봉사 \n5구역
URL:https://sakhouston.org/event/%ec%a3%bc%ec%9d%bc-%eb%b4%89%ec%82%ac-2/
LOCATION:TX
CATEGORIES:주일 봉사
END:VEVENT
BEGIN:VEVENT
DTSTART;VALUE=DATE:20250914
DTEND;VALUE=DATE:20250915
DTSTAMP:20260419T150452
CREATED:20250908T191535Z
LAST-MODIFIED:20250924T221944Z
UID:3374-1757808000-1757894399@sakhouston.org
SUMMARY:전례력: 성 십자가 현양 축일
DESCRIPTION:
URL:https://sakhouston.org/event/%ec%a0%84%eb%a1%80%eb%a0%a5-6/
LOCATION:TX
CATEGORIES:전례력
ATTACH;FMTTYPE=image/jpeg:https://sakhouston.org/wp-content/uploads/2025/09/9-14-Feast-Exaltation-of-the-Cross.jpg
END:VEVENT
BEGIN:VEVENT
DTSTART;TZID=America/Chicago:20250913T090000
DTEND;TZID=America/Chicago:20250913T180000
DTSTAMP:20260419T150452
CREATED:20250904T005923Z
LAST-MODIFIED:20250904T005923Z
UID:2980-1757754000-1757786400@sakhouston.org
SUMMARY:2025 레지오 마리애 가을피정
DESCRIPTION:“성령께서는 영혼안에 성령을 따르는 충실한 배필 마리아가 있는것을 발견하면 그 영혼 안에서 더 많은 활동을 하고 그 안에서 예수 님을 더욱 위대하게 나타내 보일것이다.”\n(성모님께 대한 참된신심 P24) \n초청강사: 김정택 요한 신부님 (Taylor\, TX) \n주제연구발표: 본당 레지오 쁘레시디움 \n대상:본당 모든신자\, 레지오활동 및 협조단원 \n참가비: $20 (점심\, 간식/음료) \n참가신청:오늘(8월 24일)-9월7일(주일) \n문의: 최분규 블라시오 (713-823-5417)\n성당 사무실
URL:https://sakhouston.org/event/2025-%eb%a0%88%ec%a7%80%ec%98%a4-%eb%a7%88%eb%a6%ac%ec%95%a0-%ea%b0%80%ec%9d%84%ed%94%bc%ec%a0%95/
LOCATION:휴스턴 성 김대건 한인 성당\, 1706 Bingle Road\, Houston\, TX\, 77055\, United States
CATEGORIES:레지오 마리애,피정
ATTACH;FMTTYPE=image/jpeg:https://sakhouston.org/wp-content/uploads/2025/09/st-mary-statue-scaled.jpg
END:VEVENT
BEGIN:VEVENT
DTSTART;VALUE=DATE:20250913
DTEND;VALUE=DATE:20250914
DTSTAMP:20260419T150452
CREATED:20250908T191249Z
LAST-MODIFIED:20250924T221853Z
UID:3372-1757721600-1757807999@sakhouston.org
SUMMARY:전례력: 성 요한 크리소스토모 주교 학자 기념일
DESCRIPTION:성 요한 크리소스토모\n주교 학자 기념일
URL:https://sakhouston.org/event/%ec%a0%84%eb%a1%80%eb%a0%a5-5/
LOCATION:TX
CATEGORIES:전례력
ATTACH;FMTTYPE=image/jpeg:https://sakhouston.org/wp-content/uploads/2025/09/9-13-Memorial-st-john-chrysostom.jpg
END:VEVENT
BEGIN:VEVENT
DTSTART;TZID=America/Chicago:20250912T120000
DTEND;TZID=America/Chicago:20250912T140000
DTSTAMP:20260419T150452
CREATED:20250906T013109Z
LAST-MODIFIED:20250906T013109Z
UID:3201-1757678400-1757685600@sakhouston.org
SUMMARY:재속 가르멜회
DESCRIPTION:이번주 금요일(9월12일) 오후12시에 재 속 가르멜회 모임이 교육관 1층에서 있습 니다. \n관심있는 신자분들을 환영합니다.
URL:https://sakhouston.org/event/%ec%9e%ac%ec%86%8d-%ea%b0%80%eb%a5%b4%eb%a9%9c%ed%9a%8c/
LOCATION:TX
CATEGORIES:재속 가르멜회
END:VEVENT
BEGIN:VEVENT
DTSTART;TZID=America/Chicago:20250912T100000
DTEND;TZID=America/Chicago:20250912T103000
DTSTAMP:20260419T150452
CREATED:20250906T011845Z
LAST-MODIFIED:20250906T011845Z
UID:3199-1757671200-1757673000@sakhouston.org
SUMMARY:이번주 평일미사 안내
DESCRIPTION:본당신부님 휴가로 이번주 화요일(9월9일) 부터 금요일(9월12일)까지 본당 평일미사 가 없습니다. 신자여러분들께서는 참고하 시기 바랍니다.
URL:https://sakhouston.org/event/%ec%9d%b4%eb%b2%88%ec%a3%bc-%ed%8f%89%ec%9d%bc%eb%af%b8%ec%82%ac-%ec%95%88%eb%82%b4-5/
LOCATION:TX
CATEGORIES:평일미사
END:VEVENT
BEGIN:VEVENT
DTSTART;TZID=America/Chicago:20250911T190000
DTEND;TZID=America/Chicago:20250911T193000
DTSTAMP:20260419T150452
CREATED:20250906T011647Z
LAST-MODIFIED:20250906T011647Z
UID:3197-1757617200-1757619000@sakhouston.org
SUMMARY:이번주 평일미사 안내
DESCRIPTION:본당신부님 휴가로 이번주 화요일(9월9일) 부터 금요일(9월12일)까지 본당 평일미사 가 없습니다. 신자여러분들께서는 참고하 시기 바랍니다.
URL:https://sakhouston.org/event/%ec%9d%b4%eb%b2%88%ec%a3%bc-%ed%8f%89%ec%9d%bc%eb%af%b8%ec%82%ac-%ec%95%88%eb%82%b4-4/
LOCATION:TX
CATEGORIES:평일미사
END:VEVENT
BEGIN:VEVENT
DTSTART;TZID=America/Chicago:20250910T190000
DTEND;TZID=America/Chicago:20250910T193000
DTSTAMP:20260419T150452
CREATED:20250906T011534Z
LAST-MODIFIED:20250906T011534Z
UID:3195-1757530800-1757532600@sakhouston.org
SUMMARY:이번주 평일미사 안내
DESCRIPTION:본당신부님 휴가로 이번주 화요일(9월9일) 부터 금요일(9월12일)까지 본당 평일미사 가 없습니다. 신자여러분들께서는 참고하 시기 바랍니다.
URL:https://sakhouston.org/event/%ec%9d%b4%eb%b2%88%ec%a3%bc-%ed%8f%89%ec%9d%bc%eb%af%b8%ec%82%ac-%ec%95%88%eb%82%b4-3/
LOCATION:TX
CATEGORIES:평일미사
END:VEVENT
BEGIN:VEVENT
DTSTART;TZID=America/Chicago:20250909T190000
DTEND;TZID=America/Chicago:20250909T193000
DTSTAMP:20260419T150452
CREATED:20250906T011154Z
LAST-MODIFIED:20250906T011154Z
UID:3193-1757444400-1757446200@sakhouston.org
SUMMARY:이번주 평일미사 안내
DESCRIPTION:본당신부님 휴가로 이번주 화요일(9월9일) 부터 금요일(9월12일)까지 본당 평일미사 가 없습니다. 신자여러분들께서는 참고하 시기 바랍니다.
URL:https://sakhouston.org/event/%ec%9d%b4%eb%b2%88%ec%a3%bc-%ed%8f%89%ec%9d%bc%eb%af%b8%ec%82%ac-%ec%95%88%eb%82%b4-2/
LOCATION:TX
CATEGORIES:평일미사
END:VEVENT
BEGIN:VEVENT
DTSTART;VALUE=DATE:20250909
DTEND;VALUE=DATE:20250910
DTSTAMP:20260419T150452
CREATED:20250908T190648Z
LAST-MODIFIED:20250924T221804Z
UID:3364-1757376000-1757462399@sakhouston.org
SUMMARY:전례력: 성 베드로 클라베르 사제 기념일
DESCRIPTION:
URL:https://sakhouston.org/event/%ec%a0%84%eb%a1%80%eb%a0%a5/
LOCATION:TX
CATEGORIES:전례력
ATTACH;FMTTYPE=image/jpeg:https://sakhouston.org/wp-content/uploads/2025/09/9-9-Memorial-StPeterClaver.jpg
END:VEVENT
BEGIN:VEVENT
DTSTART;VALUE=DATE:20250908
DTEND;VALUE=DATE:20250909
DTSTAMP:20260419T150452
CREATED:20250908T184912Z
LAST-MODIFIED:20250924T221714Z
UID:3359-1757289600-1757375999@sakhouston.org
SUMMARY:전례력: 복되신 동정 마리아 탄생 축일
DESCRIPTION:
URL:https://sakhouston.org/event/%ec%9d%b4%eb%b2%88%ec%a3%bc-%ec%a0%84%eb%a1%80%eb%a0%a5/
LOCATION:TX
CATEGORIES:전례력
ATTACH;FMTTYPE=image/jpeg:https://sakhouston.org/wp-content/uploads/2025/09/9-8-Feast-Nativity-of-Virgin-Mary.jpg
END:VEVENT
BEGIN:VEVENT
DTSTART;TZID=America/Chicago:20250907T130000
DTEND;TZID=America/Chicago:20250907T143000
DTSTAMP:20260419T150452
CREATED:20250904T013642Z
LAST-MODIFIED:20250908T014817Z
UID:2992-1757250000-1757255400@sakhouston.org
SUMMARY:희망장터
DESCRIPTION:주일학교 Flea Market \n일시: 9월 7일(다음주일) 미사후-2Pm \n장소: 친교관 무대 위 \n판매물품: 깨끗하게 사용한 어린이 물품과 의류
URL:https://sakhouston.org/event/%ed%9d%ac%eb%a7%9d%ec%9e%a5%ed%84%b0/
LOCATION:TX
CATEGORIES:모금 활동,주일학교
ATTACH;FMTTYPE=image/jpeg:https://sakhouston.org/wp-content/uploads/2025/09/flea-market.jpg
END:VEVENT
BEGIN:VEVENT
DTSTART;TZID=America/Chicago:20250907T120000
DTEND;TZID=America/Chicago:20250907T150000
DTSTAMP:20260419T150452
CREATED:20250904T015535Z
LAST-MODIFIED:20250908T031248Z
UID:2997-1757246400-1757257200@sakhouston.org
SUMMARY:울뜨레아
DESCRIPTION:다음주일(9월7일)은 울뜨레야 월례회합이 점심식사후 교육관 2층에서 있습니다. \n본당 꾸르실리스타들께서는 모두 참석하 시기 바랍니다.
URL:https://sakhouston.org/event/%ec%9a%b8%eb%9c%a8%eb%a0%88%ec%95%84/
LOCATION:TX
CATEGORIES:울뜨레아
ATTACH;FMTTYPE=image/png:https://sakhouston.org/wp-content/uploads/2025/09/crusillo-logo-large.png
END:VEVENT
END:VCALENDAR