BEGIN:VCALENDAR
VERSION:2.0
PRODID:-//휴스턴 성 김대건 한인 성당 - Houston - ECPv6.15.20//NONSGML v1.0//EN
CALSCALE:GREGORIAN
METHOD:PUBLISH
X-ORIGINAL-URL:https://sakhouston.org
X-WR-CALDESC:휴스턴 성 김대건 한인 성당 - Houston 이벤트
REFRESH-INTERVAL;VALUE=DURATION:PT1H
X-Robots-Tag:noindex
X-PUBLISHED-TTL:PT1H
BEGIN:VTIMEZONE
TZID:America/Chicago
BEGIN:DAYLIGHT
TZOFFSETFROM:-0600
TZOFFSETTO:-0500
TZNAME:CDT
DTSTART:20240310T080000
END:DAYLIGHT
BEGIN:STANDARD
TZOFFSETFROM:-0500
TZOFFSETTO:-0600
TZNAME:CST
DTSTART:20241103T070000
END:STANDARD
BEGIN:DAYLIGHT
TZOFFSETFROM:-0600
TZOFFSETTO:-0500
TZNAME:CDT
DTSTART:20250309T080000
END:DAYLIGHT
BEGIN:STANDARD
TZOFFSETFROM:-0500
TZOFFSETTO:-0600
TZNAME:CST
DTSTART:20251102T070000
END:STANDARD
BEGIN:DAYLIGHT
TZOFFSETFROM:-0600
TZOFFSETTO:-0500
TZNAME:CDT
DTSTART:20260308T080000
END:DAYLIGHT
BEGIN:STANDARD
TZOFFSETFROM:-0500
TZOFFSETTO:-0600
TZNAME:CST
DTSTART:20261101T070000
END:STANDARD
END:VTIMEZONE
BEGIN:VEVENT
DTSTART;TZID=America/Chicago:20251123T120000
DTEND;TZID=America/Chicago:20251123T143000
DTSTAMP:20260420T030217
CREATED:20251115T222751Z
LAST-MODIFIED:20251115T222751Z
UID:4424-1763899200-1763908200@sakhouston.org
SUMMARY:꾸리아
DESCRIPTION:주일(11월23일) 점심식사 후 교육관2층
URL:https://sakhouston.org/event/%ea%be%b8%eb%a6%ac%ec%95%84-3/
CATEGORIES:꾸리아
ATTACH;FMTTYPE=image/png:https://sakhouston.org/wp-content/uploads/2025/09/legio-mariae-vexillum_color.png
END:VEVENT
END:VCALENDAR