BEGIN:VCALENDAR
VERSION:2.0
PRODID:-//휴스턴 성 김대건 한인 성당 - Houston - ECPv6.15.20//NONSGML v1.0//EN
CALSCALE:GREGORIAN
METHOD:PUBLISH
X-WR-CALNAME:휴스턴 성 김대건 한인 성당 - Houston
X-ORIGINAL-URL:https://sakhouston.org
X-WR-CALDESC:휴스턴 성 김대건 한인 성당 - Houston 이벤트
REFRESH-INTERVAL;VALUE=DURATION:PT1H
X-Robots-Tag:noindex
X-PUBLISHED-TTL:PT1H
BEGIN:VTIMEZONE
TZID:America/Chicago
BEGIN:DAYLIGHT
TZOFFSETFROM:-0600
TZOFFSETTO:-0500
TZNAME:CDT
DTSTART:20240310T080000
END:DAYLIGHT
BEGIN:STANDARD
TZOFFSETFROM:-0500
TZOFFSETTO:-0600
TZNAME:CST
DTSTART:20241103T070000
END:STANDARD
BEGIN:DAYLIGHT
TZOFFSETFROM:-0600
TZOFFSETTO:-0500
TZNAME:CDT
DTSTART:20250309T080000
END:DAYLIGHT
BEGIN:STANDARD
TZOFFSETFROM:-0500
TZOFFSETTO:-0600
TZNAME:CST
DTSTART:20251102T070000
END:STANDARD
BEGIN:DAYLIGHT
TZOFFSETFROM:-0600
TZOFFSETTO:-0500
TZNAME:CDT
DTSTART:20260308T080000
END:DAYLIGHT
BEGIN:STANDARD
TZOFFSETFROM:-0500
TZOFFSETTO:-0600
TZNAME:CST
DTSTART:20261101T070000
END:STANDARD
END:VTIMEZONE
BEGIN:VEVENT
DTSTART;TZID=America/Chicago:20250928T120000
DTEND;TZID=America/Chicago:20250928T150000
DTSTAMP:20260419T221504
CREATED:20250920T152449Z
LAST-MODIFIED:20250926T195757Z
UID:3545-1759060800-1759071600@sakhouston.org
SUMMARY:꾸리아
DESCRIPTION:레지오 꾸리아 월례회합이 주일 (9월 28일) 점심식사후 교육관 2층에서 있습 니다. \n꾸리아/쁘레시디움 간부들께서는 모두 참석해 주시기 바랍니다.
URL:https://sakhouston.org/event/%ea%be%b8%eb%a6%ac%ec%95%84/
CATEGORIES:레지오 꾸리아
ATTACH;FMTTYPE=image/png:https://sakhouston.org/wp-content/uploads/2025/09/legio-mariae-vexillum_monochome.png
END:VEVENT
END:VCALENDAR