BEGIN:VCALENDAR
VERSION:2.0
PRODID:-//휴스턴 성 김대건 한인 성당 - Houston - ECPv6.15.20//NONSGML v1.0//EN
CALSCALE:GREGORIAN
METHOD:PUBLISH
X-WR-CALNAME:휴스턴 성 김대건 한인 성당 - Houston
X-ORIGINAL-URL:https://sakhouston.org
X-WR-CALDESC:휴스턴 성 김대건 한인 성당 - Houston 이벤트
REFRESH-INTERVAL;VALUE=DURATION:PT1H
X-Robots-Tag:noindex
X-PUBLISHED-TTL:PT1H
BEGIN:VTIMEZONE
TZID:America/Chicago
BEGIN:DAYLIGHT
TZOFFSETFROM:-0600
TZOFFSETTO:-0500
TZNAME:CDT
DTSTART:20240310T080000
END:DAYLIGHT
BEGIN:STANDARD
TZOFFSETFROM:-0500
TZOFFSETTO:-0600
TZNAME:CST
DTSTART:20241103T070000
END:STANDARD
BEGIN:DAYLIGHT
TZOFFSETFROM:-0600
TZOFFSETTO:-0500
TZNAME:CDT
DTSTART:20250309T080000
END:DAYLIGHT
BEGIN:STANDARD
TZOFFSETFROM:-0500
TZOFFSETTO:-0600
TZNAME:CST
DTSTART:20251102T070000
END:STANDARD
BEGIN:DAYLIGHT
TZOFFSETFROM:-0600
TZOFFSETTO:-0500
TZNAME:CDT
DTSTART:20260308T080000
END:DAYLIGHT
BEGIN:STANDARD
TZOFFSETFROM:-0500
TZOFFSETTO:-0600
TZNAME:CST
DTSTART:20261101T070000
END:STANDARD
END:VTIMEZONE
BEGIN:VEVENT
DTSTART;VALUE=DATE:20251130
DTEND;VALUE=DATE:20251201
DTSTAMP:20260420T041258
CREATED:20251116T002454Z
LAST-MODIFIED:20251116T002454Z
UID:4451-1764460800-1764547199@sakhouston.org
SUMMARY:주일 봉사
DESCRIPTION:  \n전례 봉사\n11월 30일\n\n\n대림 제1주일\n\n\n9시 미사\n교중미사\n\n\n미사 해설\n장시성\n힐라리아\n김 홍\n안토니오\n\n\n제 1 독서\n유선예\n이사벨라\n김재문\n안드레아\n\n\n제 2 독서\n정길선\n헬레나\n서경희\n루시아\n\n\n교중미사 복사\n조성남 안젤로\n전재영 마르코\n\n\n교중미사 봉헌\n강병규 실베스텔\n강예환 루시아\n\n\n교중미사 안내\n강경준 토마스\n정태환 클레멘스\n\n\n주일점심 봉사\n12B구역
URL:https://sakhouston.org/event/%ec%a3%bc%ec%9d%bc-%eb%b4%89%ec%82%ac-13/
CATEGORIES:주일 봉사
END:VEVENT
END:VCALENDAR