BEGIN:VCALENDAR
VERSION:2.0
PRODID:-//휴스턴 성 김대건 한인 성당 - Houston - ECPv6.15.20//NONSGML v1.0//EN
CALSCALE:GREGORIAN
METHOD:PUBLISH
X-ORIGINAL-URL:https://sakhouston.org
X-WR-CALDESC:휴스턴 성 김대건 한인 성당 - Houston 이벤트
REFRESH-INTERVAL;VALUE=DURATION:PT1H
X-Robots-Tag:noindex
X-PUBLISHED-TTL:PT1H
BEGIN:VTIMEZONE
TZID:America/Chicago
BEGIN:DAYLIGHT
TZOFFSETFROM:-0600
TZOFFSETTO:-0500
TZNAME:CDT
DTSTART:20250309T080000
END:DAYLIGHT
BEGIN:STANDARD
TZOFFSETFROM:-0500
TZOFFSETTO:-0600
TZNAME:CST
DTSTART:20251102T070000
END:STANDARD
BEGIN:DAYLIGHT
TZOFFSETFROM:-0600
TZOFFSETTO:-0500
TZNAME:CDT
DTSTART:20260308T080000
END:DAYLIGHT
BEGIN:STANDARD
TZOFFSETFROM:-0500
TZOFFSETTO:-0600
TZNAME:CST
DTSTART:20261101T070000
END:STANDARD
BEGIN:DAYLIGHT
TZOFFSETFROM:-0600
TZOFFSETTO:-0500
TZNAME:CDT
DTSTART:20270314T080000
END:DAYLIGHT
BEGIN:STANDARD
TZOFFSETFROM:-0500
TZOFFSETTO:-0600
TZNAME:CST
DTSTART:20271107T070000
END:STANDARD
END:VTIMEZONE
BEGIN:VEVENT
DTSTART;TZID=America/Chicago:20260101T103000
DTEND;TZID=America/Chicago:20260101T113000
DTSTAMP:20260420T231026
CREATED:20251220T073011Z
LAST-MODIFIED:20251220T073011Z
UID:4581-1767263400-1767267000@sakhouston.org
SUMMARY:대축일 미사 전례 봉사
DESCRIPTION:  \n대축일 미사\n전례 봉사\n1월 1일 \n\n\n천주의 성모\n마리아 대축일\n\n\n\n\n\n미사 시간\n10:30 AM\n\n\n미사 해설\n김 홍\n안토니오\n\n\n제 1 독서 \n김호영\n그레고리오\n\n\n제 2 독서 \n조현정\n마리아프란체스카\n\n\n복 사\n유광희 알베르또\n이승규 요셉\n조성남 안젤로\n전재영 마르코\n\n\n봉 헌\n박동수 도미니꼬\n김민지 글라라
URL:https://sakhouston.org/event/%eb%8c%80%ec%b6%95%ec%9d%bc-%eb%af%b8%ec%82%ac-%ec%a0%84%eb%a1%80-%eb%b4%89%ec%82%ac-3/
CATEGORIES:전례 봉사
END:VEVENT
END:VCALENDAR