BEGIN:VCALENDAR
VERSION:2.0
PRODID:-//휴스턴 성 김대건 한인 성당 - Houston - ECPv6.15.20//NONSGML v1.0//EN
CALSCALE:GREGORIAN
METHOD:PUBLISH
X-WR-CALNAME:휴스턴 성 김대건 한인 성당 - Houston
X-ORIGINAL-URL:https://sakhouston.org
X-WR-CALDESC:휴스턴 성 김대건 한인 성당 - Houston 이벤트
REFRESH-INTERVAL;VALUE=DURATION:PT1H
X-Robots-Tag:noindex
X-PUBLISHED-TTL:PT1H
BEGIN:VTIMEZONE
TZID:America/Chicago
BEGIN:DAYLIGHT
TZOFFSETFROM:-0600
TZOFFSETTO:-0500
TZNAME:CDT
DTSTART:20240310T080000
END:DAYLIGHT
BEGIN:STANDARD
TZOFFSETFROM:-0500
TZOFFSETTO:-0600
TZNAME:CST
DTSTART:20241103T070000
END:STANDARD
BEGIN:DAYLIGHT
TZOFFSETFROM:-0600
TZOFFSETTO:-0500
TZNAME:CDT
DTSTART:20250309T080000
END:DAYLIGHT
BEGIN:STANDARD
TZOFFSETFROM:-0500
TZOFFSETTO:-0600
TZNAME:CST
DTSTART:20251102T070000
END:STANDARD
BEGIN:DAYLIGHT
TZOFFSETFROM:-0600
TZOFFSETTO:-0500
TZNAME:CDT
DTSTART:20260308T080000
END:DAYLIGHT
BEGIN:STANDARD
TZOFFSETFROM:-0500
TZOFFSETTO:-0600
TZNAME:CST
DTSTART:20261101T070000
END:STANDARD
END:VTIMEZONE
BEGIN:VEVENT
DTSTART;TZID=America/Chicago:20251224T200000
DTEND;TZID=America/Chicago:20251224T210000
DTSTAMP:20260420T230943
CREATED:20251220T072427Z
LAST-MODIFIED:20251220T072427Z
UID:4577-1766606400-1766610000@sakhouston.org
SUMMARY:대축일 미사 전례 봉사
DESCRIPTION:  \n대축일 미사\n전례 봉사\n12월 24일 \n\n\n성탄 대축일\n밤 미사 \n\n\n\n\n\n미사 시간\n8:00 PM\n\n\n미사 해설\n김 홍\n안토니오\n\n\n제 1 독서 \n강병규\n실베스텔\n\n\n제 2 독서 \n이은영\n안젤라\n\n\n복 사\n방하중 돈보스코\n강승우 야고보\n한명규 야고보\n최분규 블라시오\n\n\n봉 헌\n윤호영 미카엘\n황지영 딤프나
URL:https://sakhouston.org/event/%eb%8c%80%ec%b6%95%ec%9d%bc-%eb%af%b8%ec%82%ac-%ec%a0%84%eb%a1%80-%eb%b4%89%ec%82%ac/
CATEGORIES:대축일 미사
END:VEVENT
BEGIN:VEVENT
DTSTART;TZID=America/Chicago:20251225T103000
DTEND;TZID=America/Chicago:20251225T113000
DTSTAMP:20260420T230943
CREATED:20251220T072744Z
LAST-MODIFIED:20251220T072744Z
UID:4579-1766658600-1766662200@sakhouston.org
SUMMARY:대축일 미사 전례 봉사
DESCRIPTION:  \n대축일 미사\n전례 봉사\n12월 25일 \n\n\n성탄 대축일\n낮 미사 \n\n\n\n\n\n미사 시간\n10:30 AM\n\n\n미사 해설\n양연주\n마리아\n\n\n제 1 독서 \n김범영\n베드로\n\n\n제 2 독서 \n김명희\n루크레시아\n\n\n복 사\n민홍기 율리아노\n이승규 요셉\n한명규 야고보\n방하중 돈보스코\n\n\n봉 헌\n강승우 야고보\n서유정 엠마
URL:https://sakhouston.org/event/%eb%8c%80%ec%b6%95%ec%9d%bc-%eb%af%b8%ec%82%ac-%ec%a0%84%eb%a1%80-%eb%b4%89%ec%82%ac-2/
CATEGORIES:주일 봉사
END:VEVENT
BEGIN:VEVENT
DTSTART;TZID=America/Chicago:20251231T190000
DTEND;TZID=America/Chicago:20251231T200000
DTSTAMP:20260420T230943
CREATED:20251228T031755Z
LAST-MODIFIED:20251228T031755Z
UID:4586-1767207600-1767211200@sakhouston.org
SUMMARY:송년미사 안내
DESCRIPTION:수요일(12월31일) 오후7시 미사
URL:https://sakhouston.org/event/%ec%86%a1%eb%85%84%eb%af%b8%ec%82%ac-%ec%95%88%eb%82%b4/
CATEGORIES:송년미사
ATTACH;FMTTYPE=image/jpeg:https://sakhouston.org/wp-content/uploads/2025/09/priest-communion-small.jpg
END:VEVENT
END:VCALENDAR