BEGIN:VCALENDAR
VERSION:2.0
PRODID:-//휴스턴 성 김대건 한인 성당 - Houston - ECPv6.15.20//NONSGML v1.0//EN
CALSCALE:GREGORIAN
METHOD:PUBLISH
X-WR-CALNAME:휴스턴 성 김대건 한인 성당 - Houston
X-ORIGINAL-URL:https://sakhouston.org
X-WR-CALDESC:휴스턴 성 김대건 한인 성당 - Houston 이벤트
REFRESH-INTERVAL;VALUE=DURATION:PT1H
X-Robots-Tag:noindex
X-PUBLISHED-TTL:PT1H
BEGIN:VTIMEZONE
TZID:America/Chicago
BEGIN:DAYLIGHT
TZOFFSETFROM:-0600
TZOFFSETTO:-0500
TZNAME:CDT
DTSTART:20240310T080000
END:DAYLIGHT
BEGIN:STANDARD
TZOFFSETFROM:-0500
TZOFFSETTO:-0600
TZNAME:CST
DTSTART:20241103T070000
END:STANDARD
BEGIN:DAYLIGHT
TZOFFSETFROM:-0600
TZOFFSETTO:-0500
TZNAME:CDT
DTSTART:20250309T080000
END:DAYLIGHT
BEGIN:STANDARD
TZOFFSETFROM:-0500
TZOFFSETTO:-0600
TZNAME:CST
DTSTART:20251102T070000
END:STANDARD
BEGIN:DAYLIGHT
TZOFFSETFROM:-0600
TZOFFSETTO:-0500
TZNAME:CDT
DTSTART:20260308T080000
END:DAYLIGHT
BEGIN:STANDARD
TZOFFSETFROM:-0500
TZOFFSETTO:-0600
TZNAME:CST
DTSTART:20261101T070000
END:STANDARD
END:VTIMEZONE
BEGIN:VEVENT
DTSTART;TZID=America/Chicago:20250907T090000
DTEND;TZID=America/Chicago:20250907T113000
DTSTAMP:20260421T003200
CREATED:20250906T010506Z
LAST-MODIFIED:20250906T010506Z
UID:3190-1757235600-1757244600@sakhouston.org
SUMMARY:이번주 미사
DESCRIPTION:이번주 주일(9월7일) 오전 9시 & 10:30분 미사를 아우구스티노 수도회 양윤모 필립보 신부님께서 집전해 주실 예정입 다.
URL:https://sakhouston.org/event/%ec%9d%b4%eb%b2%88%ec%a3%bc-%eb%af%b8%ec%82%ac/
CATEGORIES:미사
ATTACH;FMTTYPE=image/jpeg:https://sakhouston.org/wp-content/uploads/2025/09/Fr-Philip-Yang-of-Augustinian-Order.jpg
END:VEVENT
BEGIN:VEVENT
DTSTART;TZID=America/Chicago:20250906T170000
DTEND;TZID=America/Chicago:20250906T180000
DTSTAMP:20260421T003200
CREATED:20250904T022002Z
LAST-MODIFIED:20250906T005951Z
UID:3008-1757178000-1757181600@sakhouston.org
SUMMARY:다음주일 미사 안내
DESCRIPTION:이번주 토요일(9월6일) 오후5시미사를 아우구스티노 수도회 양윤모 필립보 신부님께서 집전해 주실 예정입 다.
URL:https://sakhouston.org/event/%eb%8b%a4%ec%9d%8c%ec%a3%bc%ec%9d%bc-%eb%af%b8%ec%82%ac-%ec%95%88%eb%82%b4/
CATEGORIES:미사
ATTACH;FMTTYPE=image/jpeg:https://sakhouston.org/wp-content/uploads/2025/09/Fr-Philip-Yang-of-Augustinian-Order.jpg
END:VEVENT
END:VCALENDAR