BEGIN:VCALENDAR
VERSION:2.0
PRODID:-//휴스턴 성 김대건 한인 성당 - Houston - ECPv6.15.20//NONSGML v1.0//EN
CALSCALE:GREGORIAN
METHOD:PUBLISH
X-ORIGINAL-URL:https://sakhouston.org
X-WR-CALDESC:휴스턴 성 김대건 한인 성당 - Houston 이벤트
REFRESH-INTERVAL;VALUE=DURATION:PT1H
X-Robots-Tag:noindex
X-PUBLISHED-TTL:PT1H
BEGIN:VTIMEZONE
TZID:America/Chicago
BEGIN:DAYLIGHT
TZOFFSETFROM:-0600
TZOFFSETTO:-0500
TZNAME:CDT
DTSTART:20250309T080000
END:DAYLIGHT
BEGIN:STANDARD
TZOFFSETFROM:-0500
TZOFFSETTO:-0600
TZNAME:CST
DTSTART:20251102T070000
END:STANDARD
BEGIN:DAYLIGHT
TZOFFSETFROM:-0600
TZOFFSETTO:-0500
TZNAME:CDT
DTSTART:20260308T080000
END:DAYLIGHT
BEGIN:STANDARD
TZOFFSETFROM:-0500
TZOFFSETTO:-0600
TZNAME:CST
DTSTART:20261101T070000
END:STANDARD
BEGIN:DAYLIGHT
TZOFFSETFROM:-0600
TZOFFSETTO:-0500
TZNAME:CDT
DTSTART:20270314T080000
END:DAYLIGHT
BEGIN:STANDARD
TZOFFSETFROM:-0500
TZOFFSETTO:-0600
TZNAME:CST
DTSTART:20271107T070000
END:STANDARD
END:VTIMEZONE
BEGIN:VEVENT
DTSTART;VALUE=DATE:20260420
DTEND;VALUE=DATE:20260425
DTSTAMP:20260420T041036
CREATED:20260419T010532Z
LAST-MODIFIED:20260419T010532Z
UID:4982-1776643200-1777075199@sakhouston.org
SUMMARY:미주 전주교구 사제모임 - 본당 평일미사 없음
DESCRIPTION:이번주 월요일(4월20일)부터 금요일(4월 24일)까지 본당 평일미사 없음
URL:https://sakhouston.org/event/%eb%af%b8%ec%a3%bc-%ec%a0%84%ec%a3%bc%ea%b5%90%ea%b5%ac-%ec%82%ac%ec%a0%9c%eb%aa%a8%ec%9e%84-%eb%b3%b8%eb%8b%b9-%ed%8f%89%ec%9d%bc%eb%af%b8%ec%82%ac-%ec%97%86%ec%9d%8c/
CATEGORIES:본당 미사 안내
END:VEVENT
END:VCALENDAR