BEGIN:VCALENDAR
VERSION:2.0
PRODID:-//휴스턴 성 김대건 한인 성당 - Houston - ECPv6.15.20//NONSGML v1.0//EN
CALSCALE:GREGORIAN
METHOD:PUBLISH
X-WR-CALNAME:휴스턴 성 김대건 한인 성당 - Houston
X-ORIGINAL-URL:https://sakhouston.org
X-WR-CALDESC:휴스턴 성 김대건 한인 성당 - Houston 이벤트
REFRESH-INTERVAL;VALUE=DURATION:PT1H
X-Robots-Tag:noindex
X-PUBLISHED-TTL:PT1H
BEGIN:VTIMEZONE
TZID:America/Chicago
BEGIN:DAYLIGHT
TZOFFSETFROM:-0600
TZOFFSETTO:-0500
TZNAME:CDT
DTSTART:20250309T080000
END:DAYLIGHT
BEGIN:STANDARD
TZOFFSETFROM:-0500
TZOFFSETTO:-0600
TZNAME:CST
DTSTART:20251102T070000
END:STANDARD
BEGIN:DAYLIGHT
TZOFFSETFROM:-0600
TZOFFSETTO:-0500
TZNAME:CDT
DTSTART:20260308T080000
END:DAYLIGHT
BEGIN:STANDARD
TZOFFSETFROM:-0500
TZOFFSETTO:-0600
TZNAME:CST
DTSTART:20261101T070000
END:STANDARD
BEGIN:DAYLIGHT
TZOFFSETFROM:-0600
TZOFFSETTO:-0500
TZNAME:CDT
DTSTART:20270314T080000
END:DAYLIGHT
BEGIN:STANDARD
TZOFFSETFROM:-0500
TZOFFSETTO:-0600
TZNAME:CST
DTSTART:20271107T070000
END:STANDARD
END:VTIMEZONE
BEGIN:VEVENT
DTSTART;TZID=America/Chicago:20260419T113000
DTEND;TZID=America/Chicago:20260419T123000
DTSTAMP:20260419T071733
CREATED:20260419T005633Z
LAST-MODIFIED:20260419T005633Z
UID:4979-1776598200-1776601800@sakhouston.org
SUMMARY:합동연도 안내 고)손종호 필립
DESCRIPTION:오늘(4월19일) 10시30분 미사후 천사의집
URL:https://sakhouston.org/event/%ed%95%a9%eb%8f%99%ec%97%b0%eb%8f%84-%ec%95%88%eb%82%b4-%ea%b3%a0%ec%86%90%ec%a2%85%ed%98%b8-%ed%95%84%eb%a6%bd/
CATEGORIES:합동연도
ATTACH;FMTTYPE=image/jpeg:https://sakhouston.org/wp-content/uploads/2026/04/Jong-Ho-Phillip-Son-040226.jpg
END:VEVENT
END:VCALENDAR