BEGIN:VCALENDAR
VERSION:2.0
PRODID:-//휴스턴 성 김대건 한인 성당 - Houston - ECPv6.15.20//NONSGML v1.0//EN
CALSCALE:GREGORIAN
METHOD:PUBLISH
X-WR-CALNAME:휴스턴 성 김대건 한인 성당 - Houston
X-ORIGINAL-URL:https://sakhouston.org
X-WR-CALDESC:휴스턴 성 김대건 한인 성당 - Houston 이벤트
REFRESH-INTERVAL;VALUE=DURATION:PT1H
X-Robots-Tag:noindex
X-PUBLISHED-TTL:PT1H
BEGIN:VTIMEZONE
TZID:America/Chicago
BEGIN:DAYLIGHT
TZOFFSETFROM:-0600
TZOFFSETTO:-0500
TZNAME:CDT
DTSTART:20240310T080000
END:DAYLIGHT
BEGIN:STANDARD
TZOFFSETFROM:-0500
TZOFFSETTO:-0600
TZNAME:CST
DTSTART:20241103T070000
END:STANDARD
BEGIN:DAYLIGHT
TZOFFSETFROM:-0600
TZOFFSETTO:-0500
TZNAME:CDT
DTSTART:20250309T080000
END:DAYLIGHT
BEGIN:STANDARD
TZOFFSETFROM:-0500
TZOFFSETTO:-0600
TZNAME:CST
DTSTART:20251102T070000
END:STANDARD
BEGIN:DAYLIGHT
TZOFFSETFROM:-0600
TZOFFSETTO:-0500
TZNAME:CDT
DTSTART:20260308T080000
END:DAYLIGHT
BEGIN:STANDARD
TZOFFSETFROM:-0500
TZOFFSETTO:-0600
TZNAME:CST
DTSTART:20261101T070000
END:STANDARD
BEGIN:DAYLIGHT
TZOFFSETFROM:-0600
TZOFFSETTO:-0500
TZNAME:CDT
DTSTART:20270314T080000
END:DAYLIGHT
BEGIN:STANDARD
TZOFFSETFROM:-0500
TZOFFSETTO:-0600
TZNAME:CST
DTSTART:20271107T070000
END:STANDARD
END:VTIMEZONE
BEGIN:VEVENT
DTSTART;TZID=America/Chicago:20260118T130000
DTEND;TZID=America/Chicago:20260118T150000
DTSTAMP:20260424T014312
CREATED:20260111T025627Z
LAST-MODIFIED:20260111T025627Z
UID:4626-1768741200-1768748400@sakhouston.org
SUMMARY:재무회의
DESCRIPTION:주일(1월18일) 1pm 교육관
URL:https://sakhouston.org/event/%ec%9e%ac%eb%ac%b4%ed%9a%8c%ec%9d%98/
CATEGORIES:재무회의
END:VEVENT
BEGIN:VEVENT
DTSTART;TZID=America/Chicago:20250928T090000
DTEND;TZID=America/Chicago:20250928T113000
DTSTAMP:20260424T014312
CREATED:20250926T210641Z
LAST-MODIFIED:20250929T014528Z
UID:3843-1759050000-1759059000@sakhouston.org
SUMMARY:2024-25 본당 재무 발표
DESCRIPTION:오늘(9월 28일) 오전9시 & 10:30분 미사중 재무위원장 박기행 요셉
URL:https://sakhouston.org/event/2024-25-%eb%b3%b8%eb%8b%b9-%ec%9e%ac%eb%ac%b4-%eb%b0%9c%ed%91%9c/
CATEGORIES:본당 재무
ATTACH;FMTTYPE=image/jpeg:https://sakhouston.org/wp-content/uploads/2025/09/piggy-bank.jpg
END:VEVENT
END:VCALENDAR