BEGIN:VCALENDAR
VERSION:2.0
PRODID:-//휴스턴 성 김대건 한인 성당 - Houston - ECPv6.15.20//NONSGML v1.0//EN
CALSCALE:GREGORIAN
METHOD:PUBLISH
X-WR-CALNAME:휴스턴 성 김대건 한인 성당 - Houston
X-ORIGINAL-URL:https://sakhouston.org
X-WR-CALDESC:휴스턴 성 김대건 한인 성당 - Houston 이벤트
REFRESH-INTERVAL;VALUE=DURATION:PT1H
X-Robots-Tag:noindex
X-PUBLISHED-TTL:PT1H
BEGIN:VTIMEZONE
TZID:America/Chicago
BEGIN:DAYLIGHT
TZOFFSETFROM:-0600
TZOFFSETTO:-0500
TZNAME:CDT
DTSTART:20250309T080000
END:DAYLIGHT
BEGIN:STANDARD
TZOFFSETFROM:-0500
TZOFFSETTO:-0600
TZNAME:CST
DTSTART:20251102T070000
END:STANDARD
BEGIN:DAYLIGHT
TZOFFSETFROM:-0600
TZOFFSETTO:-0500
TZNAME:CDT
DTSTART:20260308T080000
END:DAYLIGHT
BEGIN:STANDARD
TZOFFSETFROM:-0500
TZOFFSETTO:-0600
TZNAME:CST
DTSTART:20261101T070000
END:STANDARD
BEGIN:DAYLIGHT
TZOFFSETFROM:-0600
TZOFFSETTO:-0500
TZNAME:CDT
DTSTART:20270314T080000
END:DAYLIGHT
BEGIN:STANDARD
TZOFFSETFROM:-0500
TZOFFSETTO:-0600
TZNAME:CST
DTSTART:20271107T070000
END:STANDARD
END:VTIMEZONE
BEGIN:VEVENT
DTSTART;TZID=America/Chicago:20260329T130000
DTEND;TZID=America/Chicago:20260329T150000
DTSTAMP:20260425T081620
CREATED:20260314T013521Z
LAST-MODIFIED:20260329T031744Z
UID:4850-1774789200-1774796400@sakhouston.org
SUMMARY:주일학교 고백성사
DESCRIPTION:주일 (3월29일) 12pm 미사후 곧바로 – 8학년-12학년
URL:https://sakhouston.org/event/%ec%a3%bc%ec%9d%bc%ed%95%99%ea%b5%90-%ea%b3%a0%eb%b0%b1%ec%84%b1%ec%82%ac-2/
CATEGORIES:주일학교 고백성사
ATTACH;FMTTYPE=image/jpeg:https://sakhouston.org/wp-content/uploads/2026/02/confessional.jpg
END:VEVENT
BEGIN:VEVENT
DTSTART;TZID=America/Chicago:20260405T113000
DTEND;TZID=America/Chicago:20260405T123000
DTSTAMP:20260425T081620
CREATED:20260403T162532Z
LAST-MODIFIED:20260403T162532Z
UID:4928-1775388600-1775392200@sakhouston.org
SUMMARY:주일학교 Easter Egg Hunt
DESCRIPTION:일시: 오늘(4월5일) 미사후\n장소: 미취학아동- 성당 앞 잔디밭\nPK-5학년 – 교육관1층 & 천사의집 \nSunday School Easter Egg Hunt Date: Today (April 5) \nAfter Mass Location: Preschoolers — Lawn in front of the Church  \nPK – 5th Grade — Education Center (1st Floor) & House of Angels
URL:https://sakhouston.org/event/%ec%a3%bc%ec%9d%bc%ed%95%99%ea%b5%90-easter-egg-hunt-2/
CATEGORIES:Easter Egg Hunt
ATTACH;FMTTYPE=image/jpeg:https://sakhouston.org/wp-content/uploads/2026/03/easter-eggs.jpg
END:VEVENT
BEGIN:VEVENT
DTSTART;TZID=America/Chicago:20260419T103000
DTEND;TZID=America/Chicago:20260419T113000
DTSTAMP:20260425T081620
CREATED:20260411T021509Z
LAST-MODIFIED:20260419T013818Z
UID:4966-1776594600-1776598200@sakhouston.org
SUMMARY:주일학교 첫영성체
DESCRIPTION:4월19일(주일) 오전10시30분 교중 미사중- 학생 9명 \n축하합니다!\n어린이 첫영성체\n김 덕 글라라 박지수 클로이 배민서 로사 석민재 루카 석현서 루치아 심세은 릴리안 이재이 루치아 이지우 스텔라 이하진 레오
URL:https://sakhouston.org/event/%ec%a3%bc%ec%9d%bc%ed%95%99%ea%b5%90-%ec%b2%ab%ec%98%81%ec%84%b1%ec%b2%b4/
CATEGORIES:주일학교 첫영성체
ATTACH;FMTTYPE=image/jpeg:https://sakhouston.org/wp-content/uploads/2025/09/communion1.jpg
END:VEVENT
BEGIN:VEVENT
DTSTART;TZID=America/Chicago:20260426T120000
DTEND;TZID=America/Chicago:20260426T130000
DTSTAMP:20260425T081620
CREATED:20260419T012228Z
LAST-MODIFIED:20260419T012228Z
UID:4988-1777204800-1777208400@sakhouston.org
SUMMARY:주일학교 영어미사
DESCRIPTION:주일(4월26일) 12pm 미사\n집전자: Very Rev. Clark Sample\, Director Secretariat for Clergy Formation and Chaplaincy Services\, The Archdiocese of Galveston-Houston
URL:https://sakhouston.org/event/%ec%a3%bc%ec%9d%bc%ed%95%99%ea%b5%90-%ec%98%81%ec%96%b4%eb%af%b8%ec%82%ac/
CATEGORIES:주일학교
ATTACH;FMTTYPE=image/jpeg:https://sakhouston.org/wp-content/uploads/2026/04/Fr-Clark-Sample.jpg
END:VEVENT
END:VCALENDAR