BEGIN:VCALENDAR
VERSION:2.0
PRODID:-//휴스턴 성 김대건 한인 성당 - Houston - ECPv6.15.20//NONSGML v1.0//EN
CALSCALE:GREGORIAN
METHOD:PUBLISH
X-ORIGINAL-URL:https://sakhouston.org
X-WR-CALDESC:휴스턴 성 김대건 한인 성당 - Houston 이벤트
REFRESH-INTERVAL;VALUE=DURATION:PT1H
X-Robots-Tag:noindex
X-PUBLISHED-TTL:PT1H
BEGIN:VTIMEZONE
TZID:America/Chicago
BEGIN:DAYLIGHT
TZOFFSETFROM:-0600
TZOFFSETTO:-0500
TZNAME:CDT
DTSTART:20240310T080000
END:DAYLIGHT
BEGIN:STANDARD
TZOFFSETFROM:-0500
TZOFFSETTO:-0600
TZNAME:CST
DTSTART:20241103T070000
END:STANDARD
BEGIN:DAYLIGHT
TZOFFSETFROM:-0600
TZOFFSETTO:-0500
TZNAME:CDT
DTSTART:20250309T080000
END:DAYLIGHT
BEGIN:STANDARD
TZOFFSETFROM:-0500
TZOFFSETTO:-0600
TZNAME:CST
DTSTART:20251102T070000
END:STANDARD
BEGIN:DAYLIGHT
TZOFFSETFROM:-0600
TZOFFSETTO:-0500
TZNAME:CDT
DTSTART:20260308T080000
END:DAYLIGHT
BEGIN:STANDARD
TZOFFSETFROM:-0500
TZOFFSETTO:-0600
TZNAME:CST
DTSTART:20261101T070000
END:STANDARD
END:VTIMEZONE
BEGIN:VEVENT
DTSTART;VALUE=DATE:20250930
DTEND;VALUE=DATE:20251001
DTSTAMP:20260423T070531
CREATED:20250924T235155Z
LAST-MODIFIED:20250924T235155Z
UID:3794-1759190400-1759276799@sakhouston.org
SUMMARY:전례력: 성 제롬\, 사제이자 교회학자 기념일
DESCRIPTION:
URL:https://sakhouston.org/event/%ec%a0%84%eb%a1%80%eb%a0%a5-%ec%84%b1-%ec%a0%9c%eb%a1%ac-%ec%82%ac%ec%a0%9c%ec%9d%b4%ec%9e%90-%ea%b5%90%ed%9a%8c%ed%95%99%ec%9e%90-%ea%b8%b0%eb%85%90%ec%9d%bc/
CATEGORIES:전례력
ATTACH;FMTTYPE=image/jpeg:https://sakhouston.org/wp-content/uploads/2025/09/9-30-Memorial-St-Jerome.jpg
END:VEVENT
BEGIN:VEVENT
DTSTART;TZID=America/Chicago:20250930T190000
DTEND;TZID=America/Chicago:20250930T193000
DTSTAMP:20260423T070531
CREATED:20250926T224115Z
LAST-MODIFIED:20250926T230655Z
UID:3863-1759258800-1759260600@sakhouston.org
SUMMARY:평일미사 없음
DESCRIPTION:화요일(9월30일) 오후7시 평일 미사 없음 \n중남부 사제 협의회 연수 (총16분)\n9월29일(월)-10월1일(수) 산안토니오\n10월1일(수)-10월3일(금) 휴스턴
URL:https://sakhouston.org/event/%ed%8f%89%ec%9d%bc%eb%af%b8%ec%82%ac-%ec%97%86%ec%9d%8c/
CATEGORIES:평일미사
END:VEVENT
END:VCALENDAR