BEGIN:VCALENDAR
VERSION:2.0
PRODID:-//휴스턴 성 김대건 한인 성당 - Houston - ECPv6.15.20//NONSGML v1.0//EN
CALSCALE:GREGORIAN
METHOD:PUBLISH
X-ORIGINAL-URL:https://sakhouston.org
X-WR-CALDESC:휴스턴 성 김대건 한인 성당 - Houston 이벤트
REFRESH-INTERVAL;VALUE=DURATION:PT1H
X-Robots-Tag:noindex
X-PUBLISHED-TTL:PT1H
BEGIN:VTIMEZONE
TZID:America/Chicago
BEGIN:DAYLIGHT
TZOFFSETFROM:-0600
TZOFFSETTO:-0500
TZNAME:CDT
DTSTART:20240310T080000
END:DAYLIGHT
BEGIN:STANDARD
TZOFFSETFROM:-0500
TZOFFSETTO:-0600
TZNAME:CST
DTSTART:20241103T070000
END:STANDARD
BEGIN:DAYLIGHT
TZOFFSETFROM:-0600
TZOFFSETTO:-0500
TZNAME:CDT
DTSTART:20250309T080000
END:DAYLIGHT
BEGIN:STANDARD
TZOFFSETFROM:-0500
TZOFFSETTO:-0600
TZNAME:CST
DTSTART:20251102T070000
END:STANDARD
BEGIN:DAYLIGHT
TZOFFSETFROM:-0600
TZOFFSETTO:-0500
TZNAME:CDT
DTSTART:20260308T080000
END:DAYLIGHT
BEGIN:STANDARD
TZOFFSETFROM:-0500
TZOFFSETTO:-0600
TZNAME:CST
DTSTART:20261101T070000
END:STANDARD
END:VTIMEZONE
BEGIN:VEVENT
DTSTART;VALUE=DATE:20251005
DTEND;VALUE=DATE:20251006
DTSTAMP:20260419T071707
CREATED:20250920T161042Z
LAST-MODIFIED:20250927T001955Z
UID:3560-1759622400-1759708799@sakhouston.org
SUMMARY:주일 봉사
DESCRIPTION:  \n전례 봉사\n10월 5일 \n\n\n연중 제27주일 \n\n\n9시 미사 \n교중미사 \n\n\n미사 해설 \n장시성\n힐라리아\n류희정\n세실리아\n\n\n제 1 독서 \n유선예\n이사벨라\n김범영\n베드로\n\n\n제 2 독서 \n정길선\n헬레나\n이은영\n안젤라\n\n\n교중미사 복사 \n조성남 안젤로\n이승규 요셉\n\n\n교중미사 봉헌 \n한경석 베드\n한명숙 카타리나 \n\n\n교중미사 안내 \n강경준 토마스\n정태환 클레멘스\n\n\n주일점심 봉사 \n6구역
URL:https://sakhouston.org/event/%ec%a3%bc%ec%9d%bc-%eb%b4%89%ec%82%ac-5/
CATEGORIES:주일 봉사
END:VEVENT
BEGIN:VEVENT
DTSTART;TZID=America/Chicago:20251005T090000
DTEND;TZID=America/Chicago:20251005T113000
DTSTAMP:20260419T071707
CREATED:20251003T211832Z
LAST-MODIFIED:20251003T211832Z
UID:3905-1759654800-1759663800@sakhouston.org
SUMMARY:2차헌금
DESCRIPTION:오늘(10월 5일) 미사 중 군종사목을 돕는\n2차헌금 ‘Collection for the Archdiocese\nfor Military Service’
URL:https://sakhouston.org/event/2%ec%b0%a8%ed%97%8c%ea%b8%88-2/
CATEGORIES:2차헌금
ATTACH;FMTTYPE=image/jpeg:https://sakhouston.org/wp-content/uploads/2025/10/offerring-basket.jpg
END:VEVENT
BEGIN:VEVENT
DTSTART;TZID=America/Chicago:20251005T120000
DTEND;TZID=America/Chicago:20251005T150000
DTSTAMP:20260419T071707
CREATED:20250926T213946Z
LAST-MODIFIED:20250926T213946Z
UID:3851-1759665600-1759676400@sakhouston.org
SUMMARY:사목회의
DESCRIPTION:주일(10월 5일) 점심식사 후 교육관
URL:https://sakhouston.org/event/%ec%82%ac%eb%aa%a9%ed%9a%8c%ec%9d%98/
CATEGORIES:사목회
END:VEVENT
BEGIN:VEVENT
DTSTART;TZID=America/Chicago:20251005T120000
DTEND;TZID=America/Chicago:20251005T150000
DTSTAMP:20260419T071707
CREATED:20250926T214223Z
LAST-MODIFIED:20250926T214950Z
UID:3853-1759665600-1759676400@sakhouston.org
SUMMARY:울뜨레아
DESCRIPTION:주일(10월 5일) 점심식사 후 교육관 2층 회합실
URL:https://sakhouston.org/event/%ec%9a%b8%eb%9c%a8%eb%a0%88%ec%95%84-2/
CATEGORIES:울뜨레아
ATTACH;FMTTYPE=image/png:https://sakhouston.org/wp-content/uploads/2025/09/crusillo-logo-1.png
END:VEVENT
END:VCALENDAR