BEGIN:VCALENDAR
VERSION:2.0
PRODID:-//휴스턴 성 김대건 한인 성당 - Houston - ECPv6.15.20//NONSGML v1.0//EN
CALSCALE:GREGORIAN
METHOD:PUBLISH
X-ORIGINAL-URL:https://sakhouston.org
X-WR-CALDESC:휴스턴 성 김대건 한인 성당 - Houston 이벤트
REFRESH-INTERVAL;VALUE=DURATION:PT1H
X-Robots-Tag:noindex
X-PUBLISHED-TTL:PT1H
BEGIN:VTIMEZONE
TZID:America/Chicago
BEGIN:DAYLIGHT
TZOFFSETFROM:-0600
TZOFFSETTO:-0500
TZNAME:CDT
DTSTART:20240310T080000
END:DAYLIGHT
BEGIN:STANDARD
TZOFFSETFROM:-0500
TZOFFSETTO:-0600
TZNAME:CST
DTSTART:20241103T070000
END:STANDARD
BEGIN:DAYLIGHT
TZOFFSETFROM:-0600
TZOFFSETTO:-0500
TZNAME:CDT
DTSTART:20250309T080000
END:DAYLIGHT
BEGIN:STANDARD
TZOFFSETFROM:-0500
TZOFFSETTO:-0600
TZNAME:CST
DTSTART:20251102T070000
END:STANDARD
BEGIN:DAYLIGHT
TZOFFSETFROM:-0600
TZOFFSETTO:-0500
TZNAME:CDT
DTSTART:20260308T080000
END:DAYLIGHT
BEGIN:STANDARD
TZOFFSETFROM:-0500
TZOFFSETTO:-0600
TZNAME:CST
DTSTART:20261101T070000
END:STANDARD
END:VTIMEZONE
BEGIN:VEVENT
DTSTART;VALUE=DATE:20251123
DTEND;VALUE=DATE:20251201
DTSTAMP:20260423T040118
CREATED:20251116T000228Z
LAST-MODIFIED:20251122T150839Z
UID:4438-1763856000-1764547199@sakhouston.org
SUMMARY:대림피정안내 주제 - 신청기간
DESCRIPTION:예수님을 기다리며(이사야 53장) \n초청강사: 양윤모 필립보 신부 (Fr. Philip Yang\, OSA)\n일시: 영어피정: 12월5일(금) 7pm\n12월6일(토) 7:15pm \n한글피정: 12월6일(토) 2pm\n12월7일(주일)9am\n장소: 본당\n피정비: $10\n신청기간: 11월23일-11월30일\n온라인\, 성당사무실\, 친교관 접수처 \n         
URL:https://sakhouston.org/event/%eb%8c%80%eb%a6%bc%ed%94%bc%ec%a0%95%ec%95%88%eb%82%b4-%ec%a3%bc%ec%a0%9c-%ec%8b%a0%ec%b2%ad%ea%b8%b0%ea%b0%84/
LOCATION:휴스턴 성 김대건 한인 성당\, 1706 Bingle Road\, Houston\, TX\, 77055\, United States
CATEGORIES:대림피정안내 주제
ATTACH;FMTTYPE=image/jpeg:https://sakhouston.org/wp-content/uploads/2025/11/SAK-Eng-Ministry-Advent-Retreat-poster-2025.jpg
END:VEVENT
BEGIN:VEVENT
DTSTART;VALUE=DATE:20251124
DTEND;VALUE=DATE:20251125
DTSTAMP:20260423T040118
CREATED:20251013T034012Z
LAST-MODIFIED:20251013T034012Z
UID:4141-1763942400-1764028799@sakhouston.org
SUMMARY:전례력: 성 안드레아 둥락 사제와 동료 순교자들 기념일
DESCRIPTION:
URL:https://sakhouston.org/event/%ec%a0%84%eb%a1%80%eb%a0%a5-%ec%84%b1-%ec%95%88%eb%93%9c%eb%a0%88%ec%95%84-%eb%91%a5%eb%9d%bd-%ec%82%ac%ec%a0%9c%ec%99%80-%eb%8f%99%eb%a3%8c-%ec%88%9c%ea%b5%90%ec%9e%90%eb%93%a4-%ea%b8%b0%eb%85%90/
CATEGORIES:전례력
ATTACH;FMTTYPE=image/webp:https://sakhouston.org/wp-content/uploads/2025/10/11-24-Memorial-St-Andrew-Dung-Lac-Priest-and-Companions-Martyrs.webp
END:VEVENT
END:VCALENDAR