BEGIN:VCALENDAR
VERSION:2.0
PRODID:-//휴스턴 성 김대건 한인 성당 - Houston - ECPv6.15.20//NONSGML v1.0//EN
CALSCALE:GREGORIAN
METHOD:PUBLISH
X-ORIGINAL-URL:https://sakhouston.org
X-WR-CALDESC:휴스턴 성 김대건 한인 성당 - Houston 이벤트
REFRESH-INTERVAL;VALUE=DURATION:PT1H
X-Robots-Tag:noindex
X-PUBLISHED-TTL:PT1H
BEGIN:VTIMEZONE
TZID:America/Chicago
BEGIN:DAYLIGHT
TZOFFSETFROM:-0600
TZOFFSETTO:-0500
TZNAME:CDT
DTSTART:20240310T080000
END:DAYLIGHT
BEGIN:STANDARD
TZOFFSETFROM:-0500
TZOFFSETTO:-0600
TZNAME:CST
DTSTART:20241103T070000
END:STANDARD
BEGIN:DAYLIGHT
TZOFFSETFROM:-0600
TZOFFSETTO:-0500
TZNAME:CDT
DTSTART:20250309T080000
END:DAYLIGHT
BEGIN:STANDARD
TZOFFSETFROM:-0500
TZOFFSETTO:-0600
TZNAME:CST
DTSTART:20251102T070000
END:STANDARD
BEGIN:DAYLIGHT
TZOFFSETFROM:-0600
TZOFFSETTO:-0500
TZNAME:CDT
DTSTART:20260308T080000
END:DAYLIGHT
BEGIN:STANDARD
TZOFFSETFROM:-0500
TZOFFSETTO:-0600
TZNAME:CST
DTSTART:20261101T070000
END:STANDARD
END:VTIMEZONE
BEGIN:VEVENT
DTSTART;VALUE=DATE:20251130
DTEND;VALUE=DATE:20251225
DTSTAMP:20260424T002646
CREATED:20251205T221717Z
LAST-MODIFIED:20251205T221717Z
UID:4509-1764460800-1766620799@sakhouston.org
SUMMARY:판공성사
DESCRIPTION:대림시기에 받는 모든 고백성사는 판공성사 로 간주됩니다.
URL:https://sakhouston.org/event/%ed%8c%90%ea%b3%b5%ec%84%b1%ec%82%ac/
CATEGORIES:대림시기,판공성사
ATTACH;FMTTYPE=image/jpeg:https://sakhouston.org/wp-content/uploads/2025/12/confessional.jpg
END:VEVENT
BEGIN:VEVENT
DTSTART;VALUE=DATE:20251207
DTEND;VALUE=DATE:20251208
DTSTAMP:20260424T002646
CREATED:20251122T154321Z
LAST-MODIFIED:20251205T223706Z
UID:4475-1765065600-1765151999@sakhouston.org
SUMMARY:주일 봉사
DESCRIPTION:  \n전례 봉사\n12월 7일 \n\n\n대림 제2주일\n\n\n9시 미사 \n교중미사 \n\n\n미사 해설 \n  \n미사\n없음\n배재훈\n스테파노\n\n\n제 1 독서 \n김호영\n그레고리오\n\n\n제 2 독서 \n김혜숙\n브리짓다\n\n\n교중미사 복사 \n조성남 안젤로\n이동훈 리노\n\n\n교중미사 봉헌 \n김 홍 안토니오\n이승애 카타리나\n\n\n교중미사 안내 \n강경준 토마스\n정태환 클레멘스\n\n\n주일점심 봉사 \n1구역
URL:https://sakhouston.org/event/%ec%a3%bc%ec%9d%bc-%eb%b4%89%ec%82%ac-14/
CATEGORIES:주일 봉사
END:VEVENT
BEGIN:VEVENT
DTSTART;VALUE=DATE:20251207
DTEND;VALUE=DATE:20251214
DTSTAMP:20260424T002646
CREATED:20251013T043922Z
LAST-MODIFIED:20251214T033958Z
UID:4157-1765065600-1765670399@sakhouston.org
SUMMARY:전례력: 두 번째 강림절 일요일
DESCRIPTION:
URL:https://sakhouston.org/event/%ec%a0%84%eb%a1%80%eb%a0%a5-%eb%91%90-%eb%b2%88%ec%a7%b8-%ea%b0%95%eb%a6%bc%ec%a0%88-%ec%9d%bc%ec%9a%94%ec%9d%bc/
CATEGORIES:강림절,전례력
ATTACH;FMTTYPE=image/jpeg:https://sakhouston.org/wp-content/uploads/2025/10/2nd-Sunday-of-Advent.jpg
END:VEVENT
BEGIN:VEVENT
DTSTART;VALUE=DATE:20251207
DTEND;VALUE=DATE:20260101
DTSTAMP:20260424T002646
CREATED:20251205T223132Z
LAST-MODIFIED:20251220T060133Z
UID:4518-1765065600-1767225599@sakhouston.org
SUMMARY:2025 DSF 마감 마감일: 2025년12월31일
DESCRIPTION:수표 Pay to : DSF\n우편발송: Diocesan Service Fund\nPO Box 4681\nHouston\, TX 77210\n또는 성당 사무실/ 미사중 헌금
URL:https://sakhouston.org/event/2025-dsf-%eb%a7%88%ea%b0%90-%eb%a7%88%ea%b0%90%ec%9d%bc-2025%eb%85%8412%ec%9b%9431%ec%9d%bc/
CATEGORIES:DSF
ATTACH;FMTTYPE=image/jpeg:https://sakhouston.org/wp-content/uploads/2025/12/DSF-logo.jpg
END:VEVENT
BEGIN:VEVENT
DTSTART;TZID=America/Chicago:20251207T090000
DTEND;TZID=America/Chicago:20251207T102000
DTSTAMP:20260424T002646
CREATED:20251116T001626Z
LAST-MODIFIED:20251204T015748Z
UID:4448-1765098000-1765102800@sakhouston.org
SUMMARY:대림피정안내 주제 - 한글피정
DESCRIPTION:주제: 예수님을 기다리며(이사야 53장)\n초청강사: 양윤모 필립보 신부 (Fr. Philip Yang\, OSA)\n장소: 본당\n피정비: $10
URL:https://sakhouston.org/event/%eb%8c%80%eb%a6%bc%ed%94%bc%ec%a0%95%ec%95%88%eb%82%b4-%ec%a3%bc%ec%a0%9c-%ed%95%9c%ea%b8%80%ed%94%bc%ec%a0%95-2/
LOCATION:휴스턴 성 김대건 한인 성당\, 1706 Bingle Road\, Houston\, TX\, 77055\, United States
CATEGORIES:대림피정안내 주제
ATTACH;FMTTYPE=image/jpeg:https://sakhouston.org/wp-content/uploads/2025/11/SAK-Korean-Ministry-Advent-Retreat-Poster-2025.jpg
END:VEVENT
BEGIN:VEVENT
DTSTART;TZID=America/Chicago:20251207T113000
DTEND;TZID=America/Chicago:20251207T133000
DTSTAMP:20260424T002646
CREATED:20251205T215028Z
LAST-MODIFIED:20251205T215028Z
UID:4494-1765107000-1765114200@sakhouston.org
SUMMARY:희망장터
DESCRIPTION:오늘(12월7일) 미사후 친교관\n– 생강 진액\, 명란젓\, 된장 : 성모회\n– Bedazzle 피부케어: 안혜원 아녜스
URL:https://sakhouston.org/event/%ed%9d%ac%eb%a7%9d%ec%9e%a5%ed%84%b0-5/
CATEGORIES:희망장터
ATTACH;FMTTYPE=image/jpeg:https://sakhouston.org/wp-content/uploads/2025/10/daenjang-jars.jpg
END:VEVENT
BEGIN:VEVENT
DTSTART;TZID=America/Chicago:20251207T120000
DTEND;TZID=America/Chicago:20251207T140000
DTSTAMP:20260424T002646
CREATED:20251129T045600Z
LAST-MODIFIED:20251129T045600Z
UID:4486-1765108800-1765116000@sakhouston.org
SUMMARY:울뜨레아
DESCRIPTION:12월7일 점심식사후 회합실
URL:https://sakhouston.org/event/%ec%9a%b8%eb%9c%a8%eb%a0%88%ec%95%84-3/
CATEGORIES:울뜨레아
ATTACH;FMTTYPE=image/png:https://sakhouston.org/wp-content/uploads/2025/09/crusillo-logo-1.png
END:VEVENT
BEGIN:VEVENT
DTSTART;TZID=America/Chicago:20251207T150000
DTEND;TZID=America/Chicago:20251207T190000
DTSTAMP:20260424T002646
CREATED:20251129T045340Z
LAST-MODIFIED:20251129T045340Z
UID:4484-1765119600-1765134000@sakhouston.org
SUMMARY:2025 레지오마리애 연차 총 친목회
DESCRIPTION:레지오에서는 매년 원죄없이 잉태되신 복되신 동정마리아 대축일(12월8일) 가까운 날에 모든단원/협조단원들이 함께 연차 총 친목회를 개최합니다.\n일시: 12월7일(다음주일)오후3-7시 (6시 저녁식사)\n장소:  1부 성당/2부 친교관\n대상: 전 활동단원 및 협조단원\, 가족들 그리고 레지오에 관심있는 일반신자
URL:https://sakhouston.org/event/2025-%eb%a0%88%ec%a7%80%ec%98%a4%eb%a7%88%eb%a6%ac%ec%95%a0-%ec%97%b0%ec%b0%a8-%ec%b4%9d-%ec%b9%9c%eb%aa%a9%ed%9a%8c/
CATEGORIES:레지오마리애 연차 총 친목회
ATTACH;FMTTYPE=image/png:https://sakhouston.org/wp-content/uploads/2025/09/legio-mariae-tessera.png
END:VEVENT
END:VCALENDAR