BEGIN:VCALENDAR
VERSION:2.0
PRODID:-//휴스턴 성 김대건 한인 성당 - Houston - ECPv6.15.20//NONSGML v1.0//EN
CALSCALE:GREGORIAN
METHOD:PUBLISH
X-WR-CALNAME:휴스턴 성 김대건 한인 성당 - Houston
X-ORIGINAL-URL:https://sakhouston.org
X-WR-CALDESC:휴스턴 성 김대건 한인 성당 - Houston 이벤트
REFRESH-INTERVAL;VALUE=DURATION:PT1H
X-Robots-Tag:noindex
X-PUBLISHED-TTL:PT1H
BEGIN:VTIMEZONE
TZID:America/Chicago
BEGIN:DAYLIGHT
TZOFFSETFROM:-0600
TZOFFSETTO:-0500
TZNAME:CDT
DTSTART:20250309T080000
END:DAYLIGHT
BEGIN:STANDARD
TZOFFSETFROM:-0500
TZOFFSETTO:-0600
TZNAME:CST
DTSTART:20251102T070000
END:STANDARD
BEGIN:DAYLIGHT
TZOFFSETFROM:-0600
TZOFFSETTO:-0500
TZNAME:CDT
DTSTART:20260308T080000
END:DAYLIGHT
BEGIN:STANDARD
TZOFFSETFROM:-0500
TZOFFSETTO:-0600
TZNAME:CST
DTSTART:20261101T070000
END:STANDARD
BEGIN:DAYLIGHT
TZOFFSETFROM:-0600
TZOFFSETTO:-0500
TZNAME:CDT
DTSTART:20270314T080000
END:DAYLIGHT
BEGIN:STANDARD
TZOFFSETFROM:-0500
TZOFFSETTO:-0600
TZNAME:CST
DTSTART:20271107T070000
END:STANDARD
END:VTIMEZONE
BEGIN:VEVENT
DTSTART;VALUE=DATE:20260118
DTEND;VALUE=DATE:20260202
DTSTAMP:20260424T001907
CREATED:20260116T230121Z
LAST-MODIFIED:20260116T230121Z
UID:4639-1768694400-1769990399@sakhouston.org
SUMMARY:2026년 초봉헌 안내
DESCRIPTION:* 제대초/가정기도초 축성- 봉헌주일 (2월1일) 오전10시30분 교중미사 중\n* 제대초 봉헌-현관에 비치된 초봉헌 봉투 이용하여 미사중 헌금\n* 가정용 기도초 판매- 본당 성물방
URL:https://sakhouston.org/event/2026%eb%85%84-%ec%b4%88%eb%b4%89%ed%97%8c-%ec%95%88%eb%82%b4/
CATEGORIES:초봉헌
ATTACH;FMTTYPE=image/jpeg:https://sakhouston.org/wp-content/uploads/2026/01/candle-with-cross.jpg
END:VEVENT
BEGIN:VEVENT
DTSTART;VALUE=DATE:20260125
DTEND;VALUE=DATE:20260202
DTSTAMP:20260424T001907
CREATED:20260124T214615Z
LAST-MODIFIED:20260124T214759Z
UID:4674-1769299200-1769990399@sakhouston.org
SUMMARY:2026년 주보광고 갱신/신청
DESCRIPTION:신청: 주일(2월1일)까지 성당 사무실
URL:https://sakhouston.org/event/2026%eb%85%84-%ec%a3%bc%eb%b3%b4%ea%b4%91%ea%b3%a0-%ea%b0%b1%ec%8b%a0-%ec%8b%a0%ec%b2%ad/
CATEGORIES:주보광고
ATTACH;FMTTYPE=image/jpeg:https://sakhouston.org/wp-content/uploads/2026/01/parish-bulletin-advertisements-1.jpg
END:VEVENT
BEGIN:VEVENT
DTSTART;VALUE=DATE:20260125
DTEND;VALUE=DATE:20260301
DTSTAMP:20260424T001907
CREATED:20260124T212817Z
LAST-MODIFIED:20260209T193607Z
UID:4668-1769299200-1772323199@sakhouston.org
SUMMARY:2025년 헌금영수증 신청/배부
DESCRIPTION:헌금영수증을 신청하신 신자분들께서는 꼭 찾아가시기 바랍니다.\n*신청마감: 2월 28일까지
URL:https://sakhouston.org/event/2025%eb%85%84-%ed%97%8c%ea%b8%88%ec%98%81%ec%88%98%ec%a6%9d-%ec%8b%a0%ec%b2%ad-%eb%b0%b0%eb%b6%80/
CATEGORIES:헌금영수증 신청
END:VEVENT
BEGIN:VEVENT
DTSTART;VALUE=DATE:20260130
DTEND;VALUE=DATE:20260202
DTSTAMP:20260424T001907
CREATED:20260124T220803Z
LAST-MODIFIED:20260124T220803Z
UID:4682-1769731200-1769990399@sakhouston.org
SUMMARY:축하합니다! 이원철 요한보스코 본당 신부님 29주년 사제서품 기념일
DESCRIPTION:이원철 요한보스코 본당 신부님 29주년 사제서품 기념일(1월 30일:이번주 금요일)\n요한보스코 영명축일(1월 31일:이번주 토요일) 신자여러분들의 많은 축하와 기도바랍니다.\n축하행사: 다음주일(2월1일) 10시30분 교중미사 중\n미사 후 리셉션: 친교관
URL:https://sakhouston.org/event/%ec%b6%95%ed%95%98%ed%95%a9%eb%8b%88%eb%8b%a4-%ec%9d%b4%ec%9b%90%ec%b2%a0-%ec%9a%94%ed%95%9c%eb%b3%b4%ec%8a%a4%ec%bd%94-%eb%b3%b8%eb%8b%b9-%ec%8b%a0%eb%b6%80%eb%8b%98-29%ec%a3%bc%eb%85%84-%ec%82%ac/
CATEGORIES:신부님 사제서품 기념일
ATTACH;FMTTYPE=image/jpeg:https://sakhouston.org/wp-content/uploads/2026/01/congrats.jpg
END:VEVENT
BEGIN:VEVENT
DTSTART;VALUE=DATE:20260201
DTEND;VALUE=DATE:20260202
DTSTAMP:20260424T001907
CREATED:20260116T233044Z
LAST-MODIFIED:20260116T233044Z
UID:4655-1769904000-1769990399@sakhouston.org
SUMMARY:주일 봉사
DESCRIPTION:  \n전례 봉사\n2월 1일\n\n\n연중 제4주일\n\n\n9시 미사 \n교중미사 \n\n\n미사 해설 \n장시성\n힐라리아\n배재훈\n스테파노\n\n\n제 1 독서 \n유선예\n이사벨라\n김규태\n요셉\n\n\n제 2 독서 \n정길선\n헬레나\n서유정\n엠마\n\n\n교중미사 복사 \n민홍기 율리아노\n남덕화 빈첸시오\n\n\n교중미사 봉헌 \n임 명 요한\n조희동 요한비안네\n\n\n교중미사 안내 \n강경준 토마스\n정태환 클레멘스\n\n\n주일점심 봉사 \n9구역
URL:https://sakhouston.org/event/%ec%a3%bc%ec%9d%bc-%eb%b4%89%ec%82%ac-23/
CATEGORIES:주일 봉사
END:VEVENT
BEGIN:VEVENT
DTSTART;VALUE=DATE:20260201
DTEND;VALUE=DATE:20260208
DTSTAMP:20260424T001907
CREATED:20260201T021128Z
LAST-MODIFIED:20260201T021128Z
UID:4704-1769904000-1770508799@sakhouston.org
SUMMARY:이번주 성시간/성모신심미사 및 봉성체 없음
DESCRIPTION:
URL:https://sakhouston.org/event/%ec%9d%b4%eb%b2%88%ec%a3%bc-%ec%84%b1%ec%8b%9c%ea%b0%84-%ec%84%b1%eb%aa%a8%ec%8b%a0%ec%8b%ac%eb%af%b8%ec%82%ac-%eb%b0%8f-%eb%b4%89%ec%84%b1%ec%b2%b4-%ec%97%86%ec%9d%8c/
CATEGORIES:성모신심미사,성시간
END:VEVENT
BEGIN:VEVENT
DTSTART;VALUE=DATE:20260201
DTEND;VALUE=DATE:20260223
DTSTAMP:20260424T001907
CREATED:20260201T031818Z
LAST-MODIFIED:20260209T193924Z
UID:4712-1769904000-1771804799@sakhouston.org
SUMMARY:친교관 부엌 물품 도네션
DESCRIPTION:* 품목:(가정에서 현재 사용하지 않는 깨끗한)\n1.대형 도마\n2.대형 냄비\n3.대형 프라이팬\n4.가위\n* 문의: 성모회
URL:https://sakhouston.org/event/%ec%b9%9c%ea%b5%90%ea%b4%80-%eb%b6%80%ec%97%8c-%eb%ac%bc%ed%92%88-%eb%8f%84%eb%84%a4%ec%85%98/
CATEGORIES:친교관 부엌 물품
END:VEVENT
BEGIN:VEVENT
DTSTART;VALUE=DATE:20260201
DTEND;VALUE=DATE:20260302
DTSTAMP:20260424T001907
CREATED:20260124T213013Z
LAST-MODIFIED:20260213T232559Z
UID:4670-1769904000-1772409599@sakhouston.org
SUMMARY:2026 Diocesan Service Fund (DSF 주일)
DESCRIPTION:오늘(2월 1일)은 DSF주일입니다.\n교구 64개 사목을 돕는 기금마련에 동참하여 주시기 바랍니다. \n오늘 미사 중 교구장님 비디오시청 후 박기행 요셉 재무위원장님의 설명과 함께 약정을 실시하며\, 필요하시면 DSF 약정 작성을 현관입구에서 사목회원 들이 도와 드립니다.
URL:https://sakhouston.org/event/2026-dsf-%ec%a3%bc%ec%9d%bc/
CATEGORIES:DSF
ATTACH;FMTTYPE=image/jpeg:https://sakhouston.org/wp-content/uploads/2025/12/DSF-logo.jpg
END:VEVENT
BEGIN:VEVENT
DTSTART;TZID=America/Chicago:20260201T120000
DTEND;TZID=America/Chicago:20260201T143000
DTSTAMP:20260424T001907
CREATED:20260124T213428Z
LAST-MODIFIED:20260124T213428Z
UID:4672-1769947200-1769956200@sakhouston.org
SUMMARY:울뜨레아
DESCRIPTION:주일(2월1일) 점심식사후 교육관2층
URL:https://sakhouston.org/event/%ec%9a%b8%eb%9c%a8%eb%a0%88%ec%95%84-5/
CATEGORIES:울뜨레아
ATTACH;FMTTYPE=image/png:https://sakhouston.org/wp-content/uploads/2025/09/crusillo-logo-1.png
END:VEVENT
END:VCALENDAR